Workbook
Name Ages: 'Dates & Ages'!$B$1:$B$4
Name Dates: 'Dates & Ages'!$A$1:$A$89
Name Venues: 'Dates & Ages'!$C$1:$C$7

Sheet Dates & Ages
A1: 43577 | B1: U14 Boys | C1: St. Albans
A2: 43578 | B2: U16 Boys | C2: Watford
A3: 43579 | B3: U14 Girls | C3: Welwyn
A4: 43580 | B4: U16 Girls | C4: Hemel
A5: 43581 | C5: Ware
A6: 43582 | C6: Stevenage
A7: 43583 | C7: Luton
A8: 43584
A9: 43585
A10: 43586
A11: 43587
A12: 43588
A13: 43589
A14: 43590
A15: 43591
A16: 43592
A17: 43593
A18: 43594
A19: 43595
... A89: 43665

Sheet Instructions
A1: INSTRUCTIONS FOR USE OF THE HSAA LEAGUE SCORING PROGRAMME
A2: BEFORE THE EVENT
A3: EMAIL | B3: all competing schools 1 week before you are due to host to send in their entry forms.
A4: INPUT | B4: the location and date on the 'Meet info' tab.
A5: COPY & PASTE | B5: each school's entry form into the relevant tabs under the U14 Boys, U14 Girls, U16 Boys and U16 Girls entry tabs and add the school's name and number. (Any blanks will appear as 0 on results pages)
A6: NOTE | B6: that any guests and their performances must not be entered into this document.
A7: REMEMBER | B7: that guest schools (see booklet) must not be entered electronically, but should be recorded manually on the sheet provided in the booklet.
A8: OPTIONAL | B8: Once all entries have been inputted, left click U14 Boys Entries tab, hold shift (under caps lock), left click U16 Girls Entries tab (this highlights the four entry tabs), right click the U16 Girls Entries tab, and click hide. You should now only see 6 tabs (Instructions, Meet Info, and the 4 results tabs). These 4 results tabs should now be completed with all entries.
A10: CHANGES | B10: to entries at any time can be made on the entry tabs. If you have hidden them using the notes above, just right click the U14 Boys Results tab, click unhide, and select the relevant entry tab.
A11: DURING THE EVENT
A12: THROUGHOUT | B12: the match, save the document (Ctrl + S) just in case technology fails you at any point!
A13: INPUT | B13: all results carefully into the 'TIME', 'DISTANCE' and 'HEIGHT' columns ONLY - all other cells will already be filled automatically.
A14: INPUT | B14: for the 300m, 800m, 1500m and relay races MUST be entered as mm:ss.ms - for example 02:49.2 (colon between mins and secs and full stop between secs and millisecs, note the 02 mins not 2 ).
A15: LEAVE | B15: a result blank if any athlete is disqualified, does 3 no throws, 3 no jumps, 0 heights in the high jump, or does not start or finish an event.
A16: ADD | B16: 0.01 to the time of the lower placed athlete if 2 athletes are awarded the same time on the track - for example 14.1 and 14.11
A17: ADD | B17: 0.001 to distance or height of the higher placed athelete if 2 athletes are awarded the same distance or height in the field - for example 44.221 and 44.22
A18: OVERRIDE | B18: manually the points column if 2 high jumpers draw (after countback) so that the athletes share the total points allocated - for example joint 2nd = 3.5 points (4+3 = 7/2)
A19: NOTE | B19: any records that are broken will show up automatically with a YES in the 'Record?' column. The League Secretary will note these and update them annually.
A20: CHECK | B20: all results as these points will be put into the league tables.
A21: SAVE | B21: the document (Ctrl + S) before you close your laptop so that you are ready to send it when you have an internet connection.
A22: AFTER THE EVENT
A23: SEND | B23: A copy of the results to djkeenleyside@gmail.com(Area B) OR c.pettengell@parmiters.herts.sch.uk (Area A) within 36 hours of your match.
A25: DO NOT USE THIS DOCUMENT AGAIN AS FORMULAE MAY HAVE BEEN TYPED OVER. YOU MUST USE A FRESH TEMPLATE OF YOUR OWN DOWNLOAD ONE FROM THE HSAA WEBSITE.

Sheet Sheet2

Sheet Sheet3

Sheet Sheet4

Sheet Sheet5

Sheet Sheet6

Sheet Sheet7

Sheet Sheet8

Sheet Sheet9

Sheet Sheet1

Sheet Meet Info
A1: INSERT INFORMATION INTO B2 & B3 BELOW
A2: Meet Location
A3: Date

Sheet U14 Boys Entries
A1: U14 Boys Entries
B2: ENTER DETAILS BELOW ↓ | E2: ENTER DETAILS BELOW ↓ | H2: ENTER DETAILS BELOW ↓ | K2: ENTER DETAILS BELOW ↓ | N2: ENTER DETAILS BELOW ↓ | Q2: ENTER DETAILS BELOW ↓
A3: School | D3: School | G3: School | J3: School | M3: School | P3: School
A4: Vest No. | D4: Vest No. | G4: Vest No. | J4: Vest No. | M4: Vest No. | P4: Vest No.
B5: COPY NAMES INTO BELOW ↓ | E5: COPY NAMES INTO BELOW ↓ | H5: COPY NAMES INTO BELOW ↓ | K5: COPY NAMES INTO BELOW ↓ | N5: COPY NAMES INTO BELOW ↓ | Q5: COPY NAMES INTO BELOW ↓
A6: Event | B6: Name | D6: Event | E6: Name | G6: Event | H6: Name | J6: Event | K6: Name | M6: Event | N6: Name | P6: Event | Q6: Name
A7: 100m | D7: 100m | G7: 100m | J7: 100m | M7: 100m | P7: 100m
A8: 200m | D8: 200m | G8: 200m | J8: 200m | M8: 200m | P8: 200m
A9: 300m | D9: 300m | G9: 300m | J9: 300m | M9: 300m | P9: 300m
A10: 800m | D10: 800m | G10: 800m | J10: 800m | M10: 800m | P10: 800m
A11: 1500m | D11: 1500m | G11: 1500m | J11: 1500m | M11: 1500m | P11: 1500m
A12: Hurdles | D12: Hurdles | G12: Hurdles | J12: Hurdles | M12: Hurdles | P12: Hurdles
A13: Relay | D13: Relay | G13: Relay | J13: Relay | M13: Relay | P13: Relay
A14: Long Jump | D14: Long Jump | G14: Long Jump | J14: Long Jump | M14: Long Jump | P14: Long Jump
A15: Triple Jump | D15: Triple Jump | G15: Triple Jump | J15: Triple Jump | M15: Triple Jump | P15: Triple Jump
A16: High Jump | D16: High Jump | G16: High Jump | J16: High Jump | M16: High Jump | P16: High Jump
A17: Pole Vault | D17: Pole Vault | G17: Pole Vault | J17: Pole Vault | M17: Pole Vault | P17: Pole Vault
A18: Shot Put | D18: Shot Put | G18: Shot Put | J18: Shot Put | M18: Shot Put | P18: Shot Put
... A20: Javelin | D20: Javelin | G20: Javelin | J20: Javelin | M20: Javelin | P20: Javelin

Sheet Sheet10

Sheet U16 Boys Entries
A1: U16 Boys Entries
B2: ENTER DETAILS BELOW ↓ | E2: ENTER DETAILS BELOW ↓ | H2: ENTER DETAILS BELOW ↓ | K2: ENTER DETAILS BELOW ↓ | N2: ENTER DETAILS BELOW ↓ | Q2: ENTER DETAILS BELOW ↓
A3: School | D3: School | G3: School | J3: School | M3: School | P3: School
A4: Vest No. | D4: Vest No. | G4: Vest No. | J4: Vest No. | M4: Vest No. | P4: Vest No.
B5: COPY NAMES INTO BELOW ↓ | E5: COPY NAMES INTO BELOW ↓ | H5: COPY NAMES INTO BELOW ↓ | K5: COPY NAMES INTO BELOW ↓ | N5: COPY NAMES INTO BELOW ↓ | Q5: COPY NAMES INTO BELOW ↓
A6: Event | B6: Name | D6: Event | E6: Name | G6: Event | H6: Name | J6: Event | K6: Name | M6: Event | N6: Name | P6: Event | Q6: Name
A7: 100m | D7: 100m | G7: 100m | J7: 100m | M7: 100m | P7: 100m
A8: 200m | D8: 200m | G8: 200m | J8: 200m | M8: 200m | P8: 200m
A9: 400m | D9: 400m | G9: 400m | J9: 400m | M9: 400m | P9: 400m
A10: 800m | D10: 800m | G10: 800m | J10: 800m | M10: 800m | P10: 800m
A11: 1500m | D11: 1500m | G11: 1500m | J11: 1500m | M11: 1500m | P11: 1500m
A12: Hurdles | D12: Hurdles | G12: Hurdles | J12: Hurdles | M12: Hurdles | P12: Hurdles
A13: Relay | D13: Relay | G13: Relay | J13: Relay | M13: Relay | P13: Relay
A14: Long Jump | D14: Long Jump | G14: Long Jump | J14: Long Jump | M14: Long Jump | P14: Long Jump
A15: Triple Jump | D15: Triple Jump | G15: Triple Jump | J15: Triple Jump | M15: Triple Jump | P15: Triple Jump
A16: High Jump | D16: High Jump | G16: High Jump | J16: High Jump | M16: High Jump | P16: High Jump
A17: Pole Vault | D17: Pole Vault | G17: Pole Vault | J17: Pole Vault | M17: Pole Vault | P17: Pole Vault
A18: Shot Put | D18: Shot Put | G18: Shot Put | J18: Shot Put | M18: Shot Put | P18: Shot Put
... A20: Javelin | D20: Javelin | G20: Javelin | J20: Javelin | M20: Javelin | P20: Javelin

Sheet U14 Girls Entries
A1: U14 Girls Entries
B2: ENTER DETAILS BELOW ↓ | E2: ENTER DETAILS BELOW ↓ | H2: ENTER DETAILS BELOW ↓ | K2: ENTER DETAILS BELOW ↓ | N2: ENTER DETAILS BELOW ↓ | Q2: ENTER DETAILS BELOW ↓
A3: School | C3: rt | D3: School | G3: School | J3: School | M3: School | P3: School
A4: Vest No. | D4: Vest No. | G4: Vest No. | J4: Vest No. | M4: Vest No. | P4: Vest No.
B5: COPY NAMES INTO BELOW ↓ | E5: COPY NAMES INTO BELOW ↓ | H5: COPY NAMES INTO BELOW ↓ | K5: COPY NAMES INTO BELOW ↓ | N5: COPY NAMES INTO BELOW ↓ | Q5: COPY NAMES INTO BELOW ↓
A6: Event | B6: Name | D6: Event | E6: Name | G6: Event | H6: Name | J6: Event | K6: Name | M6: Event | N6: Name | P6: Event | Q6: Name
A7: 100m | D7: 100m | G7: 100m | J7: 100m | M7: 100m | P7: 100m
A8: 200m | D8: 200m | G8: 200m | J8: 200m | M8: 200m | P8: 200m
A9: 300m | D9: 300m | G9: 300m | J9: 300m | M9: 300m | P9: 300m
A10: 800m | D10: 800m | G10: 800m | J10: 800m | M10: 800m | P10: 800m
A11: 1500m | D11: 1500m | G11: 1500m | J11: 1500m | M11: 1500m | P11: 1500m
A12: Hurdles | D12: Hurdles | G12: Hurdles | J12: Hurdles | M12: Hurdles | P12: Hurdles
A13: Relay | D13: Relay | G13: Relay | J13: Relay | M13: Relay | P13: Relay
A14: Long Jump | D14: Long Jump | G14: Long Jump | J14: Long Jump | M14: Long Jump | P14: Long Jump
A15: Triple Jump | D15: Triple Jump | G15: Triple Jump | J15: Triple Jump | M15: Triple Jump | P15: Triple Jump
A16: High Jump | D16: High Jump | G16: High Jump | J16: High Jump | M16: High Jump | P16: High Jump
A17: Triple Jump | D17: Pole vault | G17: 300m | J17: 300m | M17: 300m | P17: 300m
A18: Shot Put | D18: Shot Put | G18: Shot Put | J18: Shot Put | M18: Shot Put | P18: Shot Put
... A20: Javelin | D20: Javelin | G20: Javelin | J20: Javelin | M20: Javelin | P20: Javelin

Sheet U16 Girls Entries
A1: U16 Girls Entries
B2: ENTER DETAILS BELOW ↓ | E2: ENTER DETAILS BELOW ↓ | H2: ENTER DETAILS BELOW ↓ | K2: ENTER DETAILS BELOW ↓ | N2: ENTER DETAILS BELOW ↓ | Q2: ENTER DETAILS BELOW ↓
A3: School | D3: School | G3: School | J3: School | M3: School | P3: School
A4: Vest No. | D4: Vest No. | G4: Vest No. | J4: Vest No. | M4: Vest No. | P4: Vest No.
B5: COPY NAMES INTO BELOW ↓ | E5: COPY NAMES INTO BELOW ↓ | H5: COPY NAMES INTO BELOW ↓ | K5: COPY NAMES INTO BELOW ↓ | N5: COPY NAMES INTO BELOW ↓ | Q5: COPY NAMES INTO BELOW ↓
A6: Event | B6: Name | D6: Event | E6: Name | G6: Event | H6: Name | J6: Event | K6: Name | M6: Event | N6: Name | P6: Event | Q6: Name
A7: 100m | D7: 100m | G7: 100m | J7: 100m | M7: 100m | P7: 100m
A8: 200m | D8: 200m | G8: 200m | J8: 200m | M8: 200m | P8: 200m
A9: 300m | D9: 300m | G9: 300m | J9: 300m | M9: 300m | P9: 300m
A10: 800m | D10: 800m | G10: 800m | J10: 800m | M10: 800m | P10: 800m
A11: 1500m | D11: 1500m | G11: 1500m | J11: 1500m | M11: 1500m | P11: 1500m
A12: Hurdles | D12: Hurdles | G12: Hurdles | J12: Hurdles | M12: Hurdles | P12: Hurdles
A13: Relay | D13: Relay | G13: Relay | J13: Relay | M13: Relay | P13: Relay
A14: Long Jump | D14: Long Jump | G14: Long Jump | J14: Long Jump | M14: Long Jump | P14: Long Jump
A15: Triple Jump | D15: Triple Jump | G15: Triple Jump | J15: Triple Jump | M15: Triple Jump | P15: Triple Jump
A16: High Jump | D16: High Jump | G16: High Jump | J16: High Jump | M16: High Jump | P16: High Jump
A17: 300m | D17: 300m | G17: 300m | J17: 300m | M17: 300m | P17: 300m
A18: Shot Put | D18: Shot Put | G18: Shot Put | J18: Shot Put | M18: Shot Put | P18: Shot Put
... A20: Javelin | D20: Javelin | G20: Javelin | J20: Javelin | M20: Javelin | P20: Javelin

Sheet Sheet13

Sheet Sheet11

Sheet Sheet12

Sheet U14 Boys Results
O1: U14 Boys
A3: 100m | C3: Record | E3: 11.2 | H3: 200m | J3: Record | L3: 22.7 | O3: 300m | Q3: Record | S3: 0.00043171296
A4: School | B4: Name | C4: Vest No. | D4: Time | E4: Record? | F4: Points | H4: School | I4: Name | J4: Vest No. | K4: Time | L4: Record? | M4: Points | O4: School | P4: Name | Q4: Vest No. | R4: Time | S4: Record? | T4: Points
A5: ='U14 Boys Entries'!$B3 -> 0 | B5: ='U14 Boys Entries'!B7 -> 0 | C5: ='U14 Boys Entries'!$B4 -> 0 | E5: =IF($D5<=$E$3,IF($D5>0,"YES","" )," ") | F5: =IF($D5>0,6-RANK($D5,D$5:D$10,1),0) -> 0 | H5: ='U14 Boys Entries'!$B3 -> 0 | I5: ='U14 Boys Entries'!B8 -> 0 | J5: ='U14 Boys Entries'!$B4 -> 0 | L5: =IF($K5<=$L$3,IF($K5>0,"YES","" )," ") | M5: =IF($K5>0,6-RANK($K5,K$5:K$10,1),0) -> 0 | O5: ='U14 Boys Entries'!$B3 -> 0 | P5: ='U14 Boys Entries'!B9 -> 0 | Q5: ='U14 Boys Entries'!$B4 -> 0 | S5: =IF($R5<=$S$3,IF($R5>0,"YES","" )," ") | T5: =IF($R5>0,6-RANK($R5,R$5:R$10,1),0) -> 0
A6: ='U14 Boys Entries'!$E3 -> 0 | B6: ='U14 Boys Entries'!E7 -> 0 | C6: ='U14 Boys Entries'!$E4 -> 0 | E6: =IF($D6<=$E$3,IF($D6>0,"YES","" )," ") | F6: =IF($D6>0,6-RANK($D6,D$5:D$10,1),0) -> 0 | H6: ='U14 Boys Entries'!$E3 -> 0 | I6: ='U14 Boys Entries'!E8 -> 0 | J6: ='U14 Boys Entries'!$E4 -> 0 | L6: =IF($K6<=$L$3,IF($K6>0,"YES","" )," ") | M6: =IF($K6>0,6-RANK($K6,K$5:K$10,1),0) -> 0 | O6: ='U14 Boys Entries'!$E3 -> 0 | P6: ='U14 Boys Entries'!E9 -> 0 | Q6: ='U14 Boys Entries'!$E4 -> 0 | S6: =IF($R6<=$S$3,IF($R6>0,"YES","" )," ") | T6: =IF($R6>0,6-RANK($R6,R$5:R$10,1),0) -> 0
A7: ='U14 Boys Entries'!$H3 -> 0 | B7: ='U14 Boys Entries'!H7 -> 0 | C7: ='U14 Boys Entries'!$H4 -> 0 | E7: =IF($D7<=$E$3,IF($D7>0,"YES","" )," ") | F7: =IF($D7>0,6-RANK($D7,D$5:D$10,1),0) -> 0 | H7: ='U14 Boys Entries'!$H3 -> 0 | I7: ='U14 Boys Entries'!H8 -> 0 | J7: ='U14 Boys Entries'!$H4 -> 0 | L7: =IF($K7<=$L$3,IF($K7>0,"YES","" )," ") | M7: =IF($K7>0,6-RANK($K7,K$5:K$10,1),0) -> 0 | O7: ='U14 Boys Entries'!$H3 -> 0 | P7: ='U14 Boys Entries'!H9 -> 0 | Q7: ='U14 Boys Entries'!$H4 -> 0 | S7: =IF($R7<=$S$3,IF($R7>0,"YES","" )," ") | T7: =IF($R7>0,6-RANK($R7,R$5:R$10,1),0) -> 0
A8: ='U14 Boys Entries'!$K3 -> 0 | B8: ='U14 Boys Entries'!K7 -> 0 | C8: ='U14 Boys Entries'!$K4 -> 0 | E8: =IF($D8<=$E$3,IF($D8>0,"YES","" )," ") | F8: =IF($D8>0,6-RANK($D8,D$5:D$10,1),0) -> 0 | H8: ='U14 Boys Entries'!$K3 -> 0 | I8: ='U14 Boys Entries'!K8 -> 0 | J8: ='U14 Boys Entries'!$K4 -> 0 | L8: =IF($K8<=$L$3,IF($K8>0,"YES","" )," ") | M8: =IF($K8>0,6-RANK($K8,K$5:K$10,1),0) -> 0 | O8: ='U14 Boys Entries'!$K3 -> 0 | P8: ='U14 Boys Entries'!K9 -> 0 | Q8: ='U14 Boys Entries'!$K4 -> 0 | S8: =IF($R8<=$S$3,IF($R8>0,"YES","" )," ") | T8: =IF($R8>0,6-RANK($R8,R$5:R$10,1),0) -> 0
A9: ='U14 Boys Entries'!$N3 -> 0 | B9: ='U14 Boys Entries'!N7 -> 0 | C9: ='U14 Boys Entries'!$N4 -> 0 | E9: =IF($D9<=$E$3,IF($D9>0,"YES","" )," ") | F9: =IF($D9>0,6-RANK($D9,D$5:D$10,1),0) -> 0 | H9: ='U14 Boys Entries'!$N3 -> 0 | I9: ='U14 Boys Entries'!N8 -> 0 | J9: ='U14 Boys Entries'!$N4 -> 0 | L9: =IF($K9<=$L$3,IF($K9>0,"YES","" )," ") | M9: =IF($K9>0,6-RANK($K9,K$5:K$10,1),0) -> 0 | O9: ='U14 Boys Entries'!$N3 -> 0 | P9: ='U14 Boys Entries'!N9 -> 0 | Q9: ='U14 Boys Entries'!$N4 -> 0 | S9: =IF($R9<=$S$3,IF($R9>0,"YES","" )," ") | T9: =IF($R9>0,6-RANK($R9,R$5:R$10,1),0) -> 0
A10: ='U14 Boys Entries'!$Q3 -> 0 | B10: ='U14 Boys Entries'!Q7 -> 0 | C10: ='U14 Boys Entries'!$Q4 -> 0 | E10: =IF($D10<=$E$3,IF($D10>0,"YES","" )," ") | F10: =IF($D10>0,6-RANK($D10,D$5:D$10,1),0) -> 0 | H10: ='U14 Boys Entries'!$Q3 -> 0 | I10: ='U14 Boys Entries'!Q8 -> 0 | J10: ='U14 Boys Entries'!$Q4 -> 0 | L10: =IF($K10<=$L$3,IF($K10>0,"YES","" )," ") | M10: =IF($K10>0,6-RANK($K10,K$5:K$10,1),0) -> 0 | O10: ='U14 Boys Entries'!$Q3 -> 0 | P10: ='U14 Boys Entries'!Q9 -> 0 | Q10: ='U14 Boys Entries'!$Q4 -> 0 | S10: =IF($R10<=$S$3,IF($R10>0,"YES","" )," ") | T10: =IF($R10>0,6-RANK($R10,R$5:R$10,1),0) -> 0
A12: 800m | C12: Record | E12: 0.0015115741 | H12: 1500m | J12: Record | L12: 0.0030671296 | O12: Hurdles | Q12: Record | S12: 11.5
A13: School | B13: Name | C13: Vest No. | D13: Time | E13: Record? | F13: Points | H13: School | I13: Name | J13: Vest No. | K13: Time | L13: Record? | M13: Points | O13: School | P13: Name | Q13: Vest No. | R13: Time | S13: Record? | T13: Points
A14: ='U14 Boys Entries'!$B3 -> 0 | B14: ='U14 Boys Entries'!B10 -> 0 | C14: ='U14 Boys Entries'!$B4 -> 0 | E14: =IF($D14<=$E$12,IF($D14>0,"YES","" )," ") | F14: =IF($D14>0,6-RANK($D14,D$14:D$19,1),0) -> 0 | H14: ='U14 Boys Entries'!$B3 -> 0 | I14: ='U14 Boys Entries'!B11 -> 0 | J14: ='U14 Boys Entries'!$B4 -> 0 | L14: =IF($K14<=$L$12,IF($K14>0,"YES","" )," ") | M14: =IF($K14>0,6-RANK($K14,K$14:K$19,1),0) -> 0 | O14: ='U14 Boys Entries'!$B3 -> 0 | P14: ='U14 Boys Entries'!B12 -> 0 | Q14: ='U14 Boys Entries'!$B4 -> 0 | S14: =IF($R14<=$S$12,IF($R14>0,"YES","" )," ") | T14: =IF($R14>0,6-RANK($R14,R$14:R$19,1),0) -> 0
A15: ='U14 Boys Entries'!$E3 -> 0 | B15: ='U14 Boys Entries'!E10 -> 0 | C15: ='U14 Boys Entries'!$E4 -> 0 | E15: =IF($D15<=$E$12,IF($D15>0,"YES","" )," ") | F15: =IF($D15>0,6-RANK($D15,D$14:D$19,1),0) -> 0 | H15: ='U14 Boys Entries'!$E3 -> 0 | I15: ='U14 Boys Entries'!E11 -> 0 | J15: ='U14 Boys Entries'!$E4 -> 0 | L15: =IF($K15<=$L$12,IF($K15>0,"YES","" )," ") | M15: =IF($K15>0,6-RANK($K15,K$14:K$19,1),0) -> 0 | O15: ='U14 Boys Entries'!$E3 -> 0 | P15: ='U14 Boys Entries'!E12 -> 0 | Q15: ='U14 Boys Entries'!$E4 -> 0 | S15: =IF($R15<=$S$12,IF($R15>0,"YES","" )," ") | T15: =IF($R15>0,6-RANK($R15,R$14:R$19,1),0) -> 0
A16: ='U14 Boys Entries'!$H3 -> 0 | B16: ='U14 Boys Entries'!H10 -> 0 | C16: ='U14 Boys Entries'!$H4 -> 0 | E16: =IF($D16<=$E$12,IF($D16>0,"YES","" )," ") | F16: =IF($D16>0,6-RANK($D16,D$14:D$19,1),0) -> 0 | H16: ='U14 Boys Entries'!$H3 -> 0 | I16: ='U14 Boys Entries'!H11 -> 0 | J16: ='U14 Boys Entries'!$H4 -> 0 | L16: =IF($K16<=$L$12,IF($K16>0,"YES","" )," ") | M16: =IF($K16>0,6-RANK($K16,K$14:K$19,1),0) -> 0 | O16: ='U14 Boys Entries'!$H3 -> 0 | P16: ='U14 Boys Entries'!H12 -> 0 | Q16: ='U14 Boys Entries'!$H4 -> 0 | S16: =IF($R16<=$S$12,IF($R16>0,"YES","" )," ") | T16: =IF($R16>0,6-RANK($R16,R$14:R$19,1),0) -> 0
A17: ='U14 Boys Entries'!$K3 -> 0 | B17: ='U14 Boys Entries'!K10 -> 0 | C17: ='U14 Boys Entries'!$K4 -> 0 | E17: =IF($D17<=$E$12,IF($D17>0,"YES","" )," ") | F17: =IF($D17>0,6-RANK($D17,D$14:D$19,1),0) -> 0 | H17: ='U14 Boys Entries'!$K3 -> 0 | I17: ='U14 Boys Entries'!K11 -> 0 | J17: ='U14 Boys Entries'!$K4 -> 0 | L17: =IF($K17<=$L$12,IF($K17>0,"YES","" )," ") | M17: =IF($K17>0,6-RANK($K17,K$14:K$19,1),0) -> 0 | O17: ='U14 Boys Entries'!$K3 -> 0 | P17: ='U14 Boys Entries'!K12 -> 0 | Q17: ='U14 Boys Entries'!$K4 -> 0 | S17: =IF($R17<=$S$12,IF($R17>0,"YES","" )," ") | T17: =IF($R17>0,6-RANK($R17,R$14:R$19,1),0) -> 0
A18: ='U14 Boys Entries'!$N3 -> 0 | B18: ='U14 Boys Entries'!N10 -> 0 | C18: ='U14 Boys Entries'!$N4 -> 0 | E18: =IF($D18<=$E$12,IF($D18>0,"YES","" )," ") | F18: =IF($D18>0,6-RANK($D18,D$14:D$19,1),0) -> 0 | H18: ='U14 Boys Entries'!$N3 -> 0 | I18: ='U14 Boys Entries'!N11 -> 0 | J18: ='U14 Boys Entries'!$N4 -> 0 | L18: =IF($K18<=$L$12,IF($K18>0,"YES","" )," ") | M18: =IF($K18>0,6-RANK($K18,K$14:K$19,1),0) -> 0 | O18: ='U14 Boys Entries'!$N3 -> 0 | P18: ='U14 Boys Entries'!N12 -> 0 | Q18: ='U14 Boys Entries'!$N4 -> 0 | S18: =IF($R18<=$S$12,IF($R18>0,"YES","" )," ") | T18: =IF($R18>0,6-RANK($R18,R$14:R$19,1),0) -> 0
A19: ='U14 Boys Entries'!$Q3 -> 0 | B19: ='U14 Boys Entries'!Q10 -> 0 | C19: ='U14 Boys Entries'!$Q4 -> 0 | E19: =IF($D19<=$E$12,IF($D19>0,"YES","" )," ") | F19: =IF($D19>0,6-RANK($D19,D$14:D$19,1),0) -> 0 | H19: ='U14 Boys Entries'!$Q3 -> 0 | I19: ='U14 Boys Entries'!Q11 -> 0 | J19: ='U14 Boys Entries'!$Q4 -> 0 | L19: =IF($K19<=$L$12,IF($K19>0,"YES","" )," ") | M19: =IF($K19>0,6-RANK($K19,K$14:K$19,1),0) -> 0 | O19: ='U14 Boys Entries'!$Q3 -> 0 | P19: ='U14 Boys Entries'!Q12 -> 0 | Q19: ='U14 Boys Entries'!$Q4 -> 0 | S19: =IF($R19<=$S$12,IF($R19>0,"YES","" )," ") | T19: =IF($R19>0,6-RANK($R19,R$14:R$19,1),0) -> 0
A21: Relay | C21: Record | E21: 0.00055555556 | H21: Long Jump | J21: Record | L21: 6.07 | O21: Triple Jump | Q21: Record | S21: 12.13
A22: School | B22: Name | C22: Vest No. | D22: Time | E22: Record? | F22: Points | H22: School | I22: Name | J22: Vest No. | K22: Distance | L22: Record? | M22: Points | O22: School | P22: Name | Q22: Vest No. | R22: Distance | S22: Record? | T22: Points
A23: ='U14 Boys Entries'!$B3 -> 0 | B23: ='U14 Boys Entries'!B13 -> 0 | C23: ='U14 Boys Entries'!$B4 -> 0 | E23: =IF($D23<=$E$21,IF($D23>0,"YES","" )," ") | F23: =IF($D23>0,6-RANK($D23,D$23:D$28,1),0) -> 0 | H23: ='U14 Boys Entries'!$B3 -> 0 | I23: ='U14 Boys Entries'!B14 -> 0 | J23: ='U14 Boys Entries'!$B4 -> 0 | L23: =IF($K23>=$L$21,IF($K23>0,"YES","" )," ") | M23: =IF($K23>0,6-RANK($K23,K$23:K$28,0),0) -> 0 | O23: ='U14 Boys Entries'!$B3 -> 0 | P23: ='U14 Boys Entries'!B15 -> 0 | Q23: ='U14 Boys Entries'!$B4 -> 0 | S23: =IF($R23>=$S$21,IF($R23>0,"YES","" )," ") | T23: =IF($R23>0,6-RANK($R23,R$23:R$28,0),0) -> 0
A24: ='U14 Boys Entries'!$E3 -> 0 | B24: ='U14 Boys Entries'!E13 -> 0 | C24: ='U14 Boys Entries'!$E4 -> 0 | E24: =IF($D24<=$E$21,IF($D24>0,"YES","" )," ") | F24: =IF($D24>0,6-RANK($D24,D$23:D$28,1),0) -> 0 | H24: ='U14 Boys Entries'!$E3 -> 0 | I24: ='U14 Boys Entries'!E14 -> 0 | J24: ='U14 Boys Entries'!$E4 -> 0 | L24: =IF($K24>=$L$21,IF($K24>0,"YES","" )," ") | M24: =IF($K24>0,6-RANK($K24,K$23:K$28,0),0) -> 0 | O24: ='U14 Boys Entries'!$E3 -> 0 | P24: ='U14 Boys Entries'!E15 -> 0 | Q24: ='U14 Boys Entries'!$E4 -> 0 | S24: =IF($R24>=$S$21,IF($R24>0,"YES","" )," ") | T24: =IF($R24>0,6-RANK($R24,R$23:R$28,0),0) -> 0
A25: ='U14 Boys Entries'!$H3 -> 0 | B25: ='U14 Boys Entries'!H13 -> 0 | C25: ='U14 Boys Entries'!$H4 -> 0 | E25: =IF($D25<=$E$21,IF($D25>0,"YES","" )," ") | F25: =IF($D25>0,6-RANK($D25,D$23:D$28,1),0) -> 0 | H25: ='U14 Boys Entries'!$H3 -> 0 | I25: ='U14 Boys Entries'!H14 -> 0 | J25: ='U14 Boys Entries'!$H4 -> 0 | L25: =IF($K25>=$L$21,IF($K25>0,"YES","" )," ") | M25: =IF($K25>0,6-RANK($K25,K$23:K$28,0),0) -> 0 | O25: ='U14 Boys Entries'!$H3 -> 0 | P25: ='U14 Boys Entries'!H15 -> 0 | Q25: ='U14 Boys Entries'!$H4 -> 0 | S25: =IF($R25>=$S$21,IF($R25>0,"YES","" )," ") | T25: =IF($R25>0,6-RANK($R25,R$23:R$28,0),0) -> 0
A26: ='U14 Boys Entries'!$K3 -> 0 | B26: ='U14 Boys Entries'!K13 -> 0 | C26: ='U14 Boys Entries'!$K4 -> 0 | E26: =IF($D26<=$E$21,IF($D26>0,"YES","" )," ") | F26: =IF($D26>0,6-RANK($D26,D$23:D$28,1),0) -> 0 | H26: ='U14 Boys Entries'!$K3 -> 0 | I26: ='U14 Boys Entries'!K14 -> 0 | J26: ='U14 Boys Entries'!$K4 -> 0 | L26: =IF($K26>=$L$21,IF($K26>0,"YES","" )," ") | M26: =IF($K26>0,6-RANK($K26,K$23:K$28,0),0) -> 0 | O26: ='U14 Boys Entries'!$K3 -> 0 | P26: ='U14 Boys Entries'!K15 -> 0 | Q26: ='U14 Boys Entries'!$K4 -> 0 | S26: =IF($R26>=$S$21,IF($R26>0,"YES","" )," ") | T26: =IF($R26>0,6-RANK($R26,R$23:R$28,0),0) -> 0
A27: ='U14 Boys Entries'!$N3 -> 0 | B27: ='U14 Boys Entries'!N13 -> 0 | C27: ='U14 Boys Entries'!$N4 -> 0 | E27: =IF($D27<=$E$21,IF($D27>0,"YES","" )," ") | F27: =IF($D27>0,6-RANK($D27,D$23:D$28,1),0) -> 0 | H27: ='U14 Boys Entries'!$N3 -> 0 | I27: ='U14 Boys Entries'!N14 -> 0 | J27: ='U14 Boys Entries'!$N4 -> 0 | L27: =IF($K27>=$L$21,IF($K27>0,"YES","" )," ") | M27: =IF($K27>0,6-RANK($K27,K$23:K$28,0),0) -> 0 | O27: ='U14 Boys Entries'!$N3 -> 0 | P27: ='U14 Boys Entries'!N15 -> 0 | Q27: ='U14 Boys Entries'!$N4 -> 0 | S27: =IF($R27>=$S$21,IF($R27>0,"YES","" )," ") | T27: =IF($R27>0,6-RANK($R27,R$23:R$28,0),0) -> 0
A28: ='U14 Boys Entries'!$Q3 -> 0 | B28: ='U14 Boys Entries'!Q13 -> 0 | C28: ='U14 Boys Entries'!$Q4 -> 0 | E28: =IF($D28<=$E$21,IF($D28>0,"YES","" )," ") | F28: =IF($D28>0,6-RANK($D28,D$23:D$28,1),0) -> 0 | H28: ='U14 Boys Entries'!$Q3 -> 0 | I28: ='U14 Boys Entries'!Q14 -> 0 | J28: ='U14 Boys Entries'!$Q4 -> 0 | L28: =IF($K28>=$L$21,IF($K28>0,"YES","" )," ") | M28: =IF($K28>0,6-RANK($K28,K$23:K$28,0),0) -> 0 | O28: ='U14 Boys Entries'!$Q3 -> 0 | P28: ='U14 Boys Entries'!Q15 -> 0 | Q28: ='U14 Boys Entries'!$Q4 -> 0 | S28: =IF($R28>=$S$21,IF($R28>0,"YES","" )," ") | T28: =IF($R28>0,6-RANK($R28,R$23:R$28,0),0) -> 0
A30: High Jump | C30: Record | E30: 1.75 | H30: Pole Vault | J30: Record | L30: 3.1 | O30: Shot Put | Q30: Record | S30: 14.06
A31: School | B31: Name | C31: Vest No. | D31: Height | E31: Record? | F31: Points | H31: School | I31: Name | J31: Vest No. | K31: Height | L31: Record? | M31: Points | O31: School | P31: Name | Q31: Vest No. | R31: Distance | S31: Record? | T31: Points
A32: ='U14 Boys Entries'!$B3 -> 0 | B32: ='U14 Boys Entries'!B16 -> 0 | C32: ='U14 Boys Entries'!$B4 -> 0 | E32: =IF($D32>=$E$30,IF($D32>0,"YES","" )," ") | F32: =IF($D32>0,6-RANK($D32,D$32:D$37,0),0) -> 0 | H32: ='U14 Boys Entries'!$B3 -> 0 | I32: ='U14 Boys Entries'!B17 -> 0 | J32: ='U14 Boys Entries'!$B4 -> 0 | L32: =IF($K32>=$L$30,IF($K32>0,"YES","" )," ") | M32: =IF($K32>0,6-RANK($K32,K$32:K$37,0),0) -> 0 | O32: ='U14 Boys Entries'!$B3 -> 0 | P32: ='U14 Boys Entries'!B18 -> 0 | Q32: ='U14 Boys Entries'!$B4 -> 0 | S32: =IF($R32>=$S$30,IF($R32>0,"YES","" )," ") | T32: =IF($R32>0,6-RANK($R32,R$32:R$37,0),0) -> 0
A33: ='U14 Boys Entries'!$E3 -> 0 | B33: ='U14 Boys Entries'!E16 -> 0 | C33: ='U14 Boys Entries'!$E4 -> 0 | E33: =IF($D33>=$E$30,IF($D33>0,"YES","" )," ") | F33: =IF($D33>0,6-RANK($D33,D$32:D$37,0),0) -> 0 | H33: ='U14 Boys Entries'!$E3 -> 0 | I33: ='U14 Boys Entries'!E17 -> 0 | J33: ='U14 Boys Entries'!$E4 -> 0 | L33: =IF($K33>=$L$30,IF($K33>0,"YES","" )," ") | M33: =IF($K33>0,6-RANK($K33,K$32:K$37,0),0) -> 0 | O33: ='U14 Boys Entries'!$E3 -> 0 | P33: ='U14 Boys Entries'!E18 -> 0 | Q33: ='U14 Boys Entries'!$E4 -> 0 | S33: =IF($R33>=$S$30,IF($R33>0,"YES","" )," ") | T33: =IF($R33>0,6-RANK($R33,R$32:R$37,0),0) -> 0
A34: ='U14 Boys Entries'!$H3 -> 0 | B34: ='U14 Boys Entries'!H16 -> 0 | C34: ='U14 Boys Entries'!$H4 -> 0 | E34: =IF($D34>=$E$30,IF($D34>0,"YES","" )," ") | F34: =IF($D34>0,6-RANK($D34,D$32:D$37,0),0) -> 0 | H34: ='U14 Boys Entries'!$H3 -> 0 | I34: ='U14 Boys Entries'!H17 -> 0 | J34: ='U14 Boys Entries'!$H4 -> 0 | L34: =IF($K34>=$L$30,IF($K34>0,"YES","" )," ") | M34: =IF($K34>0,6-RANK($K34,K$32:K$37,0),0) -> 0 | O34: ='U14 Boys Entries'!$H3 -> 0 | P34: ='U14 Boys Entries'!H18 -> 0 | Q34: ='U14 Boys Entries'!$H4 -> 0 | S34: =IF($R34>=$S$30,IF($R34>0,"YES","" )," ") | T34: =IF($R34>0,6-RANK($R34,R$32:R$37,0),0) -> 0
A35: ='U14 Boys Entries'!$K3 -> 0 | B35: ='U14 Boys Entries'!K16 -> 0 | C35: ='U14 Boys Entries'!$K4 -> 0 | E35: =IF($D35>=$E$30,IF($D35>0,"YES","" )," ") | F35: =IF($D35>0,6-RANK($D35,D$32:D$37,0),0) -> 0 | H35: ='U14 Boys Entries'!$K3 -> 0 | I35: ='U14 Boys Entries'!K17 -> 0 | J35: ='U14 Boys Entries'!$K4 -> 0 | L35: =IF($K35>=$L$30,IF($K35>0,"YES","" )," ") | M35: =IF($K35>0,6-RANK($K35,K$32:K$37,0),0) -> 0 | O35: ='U14 Boys Entries'!$K3 -> 0 | P35: ='U14 Boys Entries'!K18 -> 0 | Q35: ='U14 Boys Entries'!$K4 -> 0 | S35: =IF($R35>=$S$30,IF($R35>0,"YES","" )," ") | T35: =IF($R35>0,6-RANK($R35,R$32:R$37,0),0) -> 0
A36: ='U14 Boys Entries'!$N3 -> 0 | B36: ='U14 Boys Entries'!N16 -> 0 | C36: ='U14 Boys Entries'!$N4 -> 0 | E36: =IF($D36>=$E$30,IF($D36>0,"YES","" )," ") | F36: =IF($D36>0,6-RANK($D36,D$32:D$37,0),0) -> 0 | H36: ='U14 Boys Entries'!$N3 -> 0 | I36: ='U14 Boys Entries'!N17 -> 0 | J36: ='U14 Boys Entries'!$N4 -> 0 | L36: =IF($K36>=$L$30,IF($K36>0,"YES","" )," ") | M36: =IF($K36>0,6-RANK($K36,K$32:K$37,0),0) -> 0 | O36: ='U14 Boys Entries'!$N3 -> 0 | P36: ='U14 Boys Entries'!N18 -> 0 | Q36: ='U14 Boys Entries'!$N4 -> 0 | S36: =IF($R36>=$S$30,IF($R36>0,"YES","" )," ") | T36: =IF($R36>0,6-RANK($R36,R$32:R$37,0),0) -> 0
A37: ='U14 Boys Entries'!$Q3 -> 0 | B37: ='U14 Boys Entries'!Q16 -> 0 | C37: ='U14 Boys Entries'!$Q4 -> 0 | E37: =IF($D37>=$E$30,IF($D37>0,"YES","" )," ") | F37: =IF($D37>0,6-RANK($D37,D$32:D$37,0),0) -> 0 | H37: ='U14 Boys Entries'!$Q3 -> 0 | I37: ='U14 Boys Entries'!Q17 -> 0 | J37: ='U14 Boys Entries'!$Q4 -> 0 | L37: =IF($K37>=$L$30,IF($K37>0,"YES","" )," ") | M37: =IF($K37>0,6-RANK($K37,K$32:K$37,0),0) -> 0 | O37: ='U14 Boys Entries'!$Q3 -> 0 | P37: ='U14 Boys Entries'!Q18 -> 0 | Q37: ='U14 Boys Entries'!$Q4 -> 0 | S37: =IF($R37>=$S$30,IF($R37>0,"YES","" )," ") | T37: =IF($R37>0,6-RANK($R37,R$32:R$37,0),0) -> 0
A39: Discus | C39: Record | E39: 44.61 | H39: Javelin | J39: Record | L39: 44.26 | O39: Results
A40: School | B40: Name | C40: Vest No. | D40: Distance | E40: Record? | F40: Points | H40: School | I40: Name | J40: Vest No. | K40: Distance | L40: Record? | M40: Points | O40: School | Q40: Vest No. | R40: Points
A41: ='U14 Boys Entries'!$B3 -> 0 | B41: ='U14 Boys Entries'!B19 -> 0 | C41: ='U14 Boys Entries'!$B4 -> 0 | E41: =IF($D41>=$E$39,IF($D41>0,"YES","" )," ") | F41: =IF($D41>0,6-RANK($D41,D$41:D$46,0),0) -> 0 | H41: ='U14 Boys Entries'!$B3 -> 0 | I41: ='U14 Boys Entries'!B20 -> 0 | J41: ='U14 Boys Entries'!$B4 -> 0 | L41: =IF($K41>=$L$39,IF($K41>0,"YES","" )," ") | M41: =IF($K41>0,6-RANK($K41,K$41:K$46,0),0) -> 0 | O41: ='U14 Boys Entries'!$B3 -> 0 | Q41: ='U14 Boys Entries'!$B4 -> 0 | R41: =SUM(F5,M5,T5,F14,M14,T14,F23,M23,T23,T32,M32,F32,F41,M41) -> 0
A42: ='U14 Boys Entries'!$E3 -> 0 | B42: ='U14 Boys Entries'!E19 -> 0 | C42: ='U14 Boys Entries'!$E4 -> 0 | E42: =IF($D42>=$E$39,IF($D42>0,"YES","" )," ") | F42: =IF($D42>0,6-RANK($D42,D$41:D$46,0),0) -> 0 | H42: ='U14 Boys Entries'!$E3 -> 0 | I42: ='U14 Boys Entries'!E20 -> 0 | J42: ='U14 Boys Entries'!$E4 -> 0 | L42: =IF($K42>=$L$39,IF($K42>0,"YES","" )," ") | M42: =IF($K42>0,6-RANK($K42,K$41:K$46,0),0) -> 0 | O42: ='U14 Boys Entries'!$E3 -> 0 | Q42: ='U14 Boys Entries'!$E4 -> 0 | R42: =SUM(F6,M6,T6,F15,M15,T15,F24,M24,T24,T33,M33,F33,F42,M42) -> 0
A43: ='U14 Boys Entries'!$H3 -> 0 | B43: ='U14 Boys Entries'!H19 -> 0 | C43: ='U14 Boys Entries'!$H4 -> 0 | E43: =IF($D43>=$E$39,IF($D43>0,"YES","" )," ") | F43: =IF($D43>0,6-RANK($D43,D$41:D$46,0),0) -> 0 | H43: ='U14 Boys Entries'!$H3 -> 0 | I43: ='U14 Boys Entries'!H20 -> 0 | J43: ='U14 Boys Entries'!$H4 -> 0 | L43: =IF($K43>=$L$39,IF($K43>0,"YES","" )," ") | M43: =IF($K43>0,6-RANK($K43,K$41:K$46,0),0) -> 0 | O43: ='U14 Boys Entries'!$H3 -> 0 | Q43: ='U14 Boys Entries'!$H4 -> 0 | R43: =SUM(F7,M7,T7,F16,M16,T16,F25,M25,T25,T34,M34,F34,F43,M43) -> 0
A44: ='U14 Boys Entries'!$K3 -> 0 | B44: ='U14 Boys Entries'!K19 -> 0 | C44: ='U14 Boys Entries'!$K4 -> 0 | E44: =IF($D44>=$E$39,IF($D44>0,"YES","" )," ") | F44: =IF($D44>0,6-RANK($D44,D$41:D$46,0),0) -> 0 | H44: ='U14 Boys Entries'!$K3 -> 0 | I44: ='U14 Boys Entries'!K20 -> 0 | J44: ='U14 Boys Entries'!$K4 -> 0 | L44: =IF($K44>=$L$39,IF($K44>0,"YES","" )," ") | M44: =IF($K44>0,6-RANK($K44,K$41:K$46,0),0) -> 0 | O44: ='U14 Boys Entries'!$K3 -> 0 | Q44: ='U14 Boys Entries'!$K4 -> 0 | R44: =SUM(F8,M8,T8,F17,M17,T17,F26,M26,T26,T35,M35,F35,F44,M44) -> 0
A45: ='U14 Boys Entries'!$N3 -> 0 | B45: ='U14 Boys Entries'!N19 -> 0 | C45: ='U14 Boys Entries'!$N4 -> 0 | E45: =IF($D45>=$E$39,IF($D45>0,"YES","" )," ") | F45: =IF($D45>0,6-RANK($D45,D$41:D$46,0),0) -> 0 | H45: ='U14 Boys Entries'!$N3 -> 0 | I45: ='U14 Boys Entries'!N20 -> 0 | J45: ='U14 Boys Entries'!$N4 -> 0 | L45: =IF($K45>=$L$39,IF($K45>0,"YES","" )," ") | M45: =IF($K45>0,6-RANK($K45,K$41:K$46,0),0) -> 0 | O45: ='U14 Boys Entries'!$N3 -> 0 | Q45: ='U14 Boys Entries'!$N4 -> 0 | R45: =SUM(F9,M9,T9,F18,M18,T18,F27,M27,T27,T36,M36,F36,F45,M45) -> 0
A46: ='U14 Boys Entries'!$Q3 -> 0 | B46: ='U14 Boys Entries'!Q19 -> 0 | C46: ='U14 Boys Entries'!$Q4 -> 0 | E46: =IF($D46>=$E$39,IF($D46>0,"YES","" )," ") | F46: =IF($D46>0,6-RANK($D46,D$41:D$46,0),0) -> 0 | H46: ='U14 Boys Entries'!$Q3 -> 0 | I46: ='U14 Boys Entries'!Q20 -> 0 | J46: ='U14 Boys Entries'!$Q4 -> 0 | L46: =IF($K46>=$L$39,IF($K46>0,"YES","" )," ") | M46: =IF($K46>0,6-RANK($K46,K$41:K$46,0),0) -> 0 | O46: ='U14 Boys Entries'!$Q3 -> 0 | Q46: ='U14 Boys Entries'!$Q4 -> 0 | R46: =SUM(F10,M10,T10,F19,M19,T19,F28,M28,T28,T37,M37,F37,F46,M46) -> 0

Sheet U14 Girls Results
O1: U14 Girls
A3: 100m | C3: Record | E3: 12.4 | H3: 200m | J3: Record | L3: 25.9 | O3: 300m | Q3: Record | S3: 0.00049537037
A4: School | B4: Name | C4: Vest No. | D4: Time | E4: Record? | F4: Points | H4: School | I4: Name | J4: Vest No. | K4: Time | L4: Record? | M4: Points | O4: School | P4: Name | Q4: Vest No. | R4: Time | S4: Record? | T4: Points
A5: ='U14 Girls Entries'!$B3 -> 0 | B5: ='U14 Girls Entries'!B7 -> 0 | C5: ='U14 Girls Entries'!$B4 -> 0 | E5: =IF($D5<=$E$3,IF($D5>0,"YES","" )," ") | F5: =IF($D5>0,6-RANK($D5,D$5:D$10,1),0) -> 0 | H5: ='U14 Girls Entries'!$B3 -> 0 | I5: ='U14 Girls Entries'!B8 -> 0 | J5: ='U14 Girls Entries'!$B4 -> 0 | L5: =IF($K5<=$L$3,IF($K5>0,"YES","" )," ") | M5: =IF($K5>0,6-RANK($K5,K$5:K$10,1),0) -> 0 | O5: ='U14 Girls Entries'!$B3 -> 0 | P5: ='U14 Girls Entries'!B9 -> 0 | Q5: ='U14 Girls Entries'!$B4 -> 0 | S5: =IF($R5<=$S$3,IF($R5>0,"YES","" )," ") | T5: =IF($R5>0,6-RANK($R5,R$5:R$10,1),0) -> 0
A6: ='U14 Girls Entries'!$E3 -> 0 | B6: ='U14 Girls Entries'!E7 -> 0 | C6: ='U14 Girls Entries'!$E4 -> 0 | E6: =IF($D6<=$E$3,IF($D6>0,"YES","" )," ") | F6: =IF($D6>0,6-RANK($D6,D$5:D$10,1),0) -> 0 | H6: ='U14 Girls Entries'!$E3 -> 0 | I6: ='U14 Girls Entries'!E8 -> 0 | J6: ='U14 Girls Entries'!$E4 -> 0 | L6: =IF($K6<=$L$3,IF($K6>0,"YES","" )," ") | M6: =IF($K6>0,6-RANK($K6,K$5:K$10,1),0) -> 0 | O6: ='U14 Girls Entries'!$E3 -> 0 | P6: ='U14 Girls Entries'!E9 -> 0 | Q6: ='U14 Girls Entries'!$E4 -> 0 | S6: =IF($R6<=$S$3,IF($R6>0,"YES","" )," ") | T6: =IF($R6>0,6-RANK($R6,R$5:R$10,1),0) -> 0
A7: ='U14 Girls Entries'!$H3 -> 0 | B7: ='U14 Girls Entries'!H7 -> 0 | C7: ='U14 Girls Entries'!$H4 -> 0 | E7: =IF($D7<=$E$3,IF($D7>0,"YES","" )," ") | F7: =IF($D7>0,6-RANK($D7,D$5:D$10,1),0) -> 0 | H7: ='U14 Girls Entries'!$H3 -> 0 | I7: ='U14 Girls Entries'!H8 -> 0 | J7: ='U14 Girls Entries'!$H4 -> 0 | L7: =IF($K7<=$L$3,IF($K7>0,"YES","" )," ") | M7: =IF($K7>0,6-RANK($K7,K$5:K$10,1),0) -> 0 | O7: ='U14 Girls Entries'!$H3 -> 0 | P7: ='U14 Girls Entries'!H9 -> 0 | Q7: ='U14 Girls Entries'!$H4 -> 0 | S7: =IF($R7<=$S$3,IF($R7>0,"YES","" )," ") | T7: =IF($R7>0,6-RANK($R7,R$5:R$10,1),0) -> 0
A8: ='U14 Girls Entries'!$K3 -> 0 | B8: ='U14 Girls Entries'!K7 -> 0 | C8: ='U14 Girls Entries'!$K4 -> 0 | E8: =IF($D8<=$E$3,IF($D8>0,"YES","" )," ") | F8: =IF($D8>0,6-RANK($D8,D$5:D$10,1),0) -> 0 | H8: ='U14 Girls Entries'!$K3 -> 0 | I8: ='U14 Girls Entries'!K8 -> 0 | J8: ='U14 Girls Entries'!$K4 -> 0 | L8: =IF($K8<=$L$3,IF($K8>0,"YES","" )," ") | M8: =IF($K8>0,6-RANK($K8,K$5:K$10,1),0) -> 0 | O8: ='U14 Girls Entries'!$K3 -> 0 | P8: ='U14 Girls Entries'!K9 -> 0 | Q8: ='U14 Girls Entries'!$K4 -> 0 | S8: =IF($R8<=$S$3,IF($R8>0,"YES","" )," ") | T8: =IF($R8>0,6-RANK($R8,R$5:R$10,1),0) -> 0
A9: ='U14 Girls Entries'!$N3 -> 0 | B9: ='U14 Girls Entries'!N7 -> 0 | C9: ='U14 Girls Entries'!$N4 -> 0 | E9: =IF($D9<=$E$3,IF($D9>0,"YES","" )," ") | F9: =IF($D9>0,6-RANK($D9,D$5:D$10,1),0) -> 0 | H9: ='U14 Girls Entries'!$N3 -> 0 | I9: ='U14 Girls Entries'!N8 -> 0 | J9: ='U14 Girls Entries'!$N4 -> 0 | L9: =IF($K9<=$L$3,IF($K9>0,"YES","" )," ") | M9: =IF($K9>0,6-RANK($K9,K$5:K$10,1),0) -> 0 | O9: ='U14 Girls Entries'!$N3 -> 0 | P9: ='U14 Girls Entries'!N9 -> 0 | Q9: ='U14 Girls Entries'!$N4 -> 0 | S9: =IF($R9<=$S$3,IF($R9>0,"YES","" )," ") | T9: =IF($R9>0,6-RANK($R9,R$5:R$10,1),0) -> 0
A10: ='U14 Girls Entries'!$Q3 -> 0 | B10: ='U14 Girls Entries'!Q7 -> 0 | C10: ='U14 Girls Entries'!$Q4 -> 0 | E10: =IF($D10<=$E$3,IF($D10>0,"YES","" )," ") | F10: =IF($D10>0,6-RANK($D10,D$5:D$10,1),0) -> 0 | H10: ='U14 Girls Entries'!$Q3 -> 0 | I10: ='U14 Girls Entries'!Q8 -> 0 | J10: ='U14 Girls Entries'!$Q4 -> 0 | L10: =IF($K10<=$L$3,IF($K10>0,"YES","" )," ") | M10: =IF($K10>0,6-RANK($K10,K$5:K$10,1),0) -> 0 | O10: ='U14 Girls Entries'!$Q3 -> 0 | P10: ='U14 Girls Entries'!Q9 -> 0 | Q10: ='U14 Girls Entries'!$Q4 -> 0 | S10: =IF($R10<=$S$3,IF($R10>0,"YES","" )," ") | T10: =IF($R10>0,6-RANK($R10,R$5:R$10,1),0) -> 0
A12: 800m | C12: Record | E12: 0.0016354167 | H12: 1500m | J12: Record | L12: 0.0034375 | O12: Hurdles | Q12: Record | S12: 11.3
A13: School | B13: Name | C13: Vest No. | D13: Time | E13: Record? | F13: Points | H13: School | I13: Name | J13: Vest No. | K13: Time | L13: Record? | M13: Points | O13: School | P13: Name | Q13: Vest No. | R13: Time | S13: Record? | T13: Points
A14: ='U14 Girls Entries'!$B3 -> 0 | B14: ='U14 Girls Entries'!B10 -> 0 | C14: ='U14 Girls Entries'!$B4 -> 0 | E14: =IF($D14<=$E$12,IF($D14>0,"YES","" )," ") | F14: =IF($D14>0,6-RANK($D14,D$14:D$19,1),0) -> 0 | H14: ='U14 Girls Entries'!$B3 -> 0 | I14: ='U14 Girls Entries'!B11 -> 0 | J14: ='U14 Girls Entries'!$B4 -> 0 | L14: =IF($K14<=$L$12,IF($K14>0,"YES","" )," ") | M14: =IF($K14>0,6-RANK($K14,K$14:K$19,1),0) -> 0 | O14: ='U14 Girls Entries'!$B3 -> 0 | P14: ='U14 Girls Entries'!B12 -> 0 | Q14: ='U14 Girls Entries'!$B4 -> 0 | S14: =IF($R14<=$S$12,IF($R14>0,"YES","" )," ") | T14: =IF($R14>0,6-RANK($R14,R$14:R$19,1),0) -> 0
A15: ='U14 Girls Entries'!$E3 -> 0 | B15: ='U14 Girls Entries'!E10 -> 0 | C15: ='U14 Girls Entries'!$E4 -> 0 | E15: =IF($D15<=$E$12,IF($D15>0,"YES","" )," ") | F15: =IF($D15>0,6-RANK($D15,D$14:D$19,1),0) -> 0 | H15: ='U14 Girls Entries'!$E3 -> 0 | I15: ='U14 Girls Entries'!E11 -> 0 | J15: ='U14 Girls Entries'!$E4 -> 0 | L15: =IF($K15<=$L$12,IF($K15>0,"YES","" )," ") | M15: =IF($K15>0,6-RANK($K15,K$14:K$19,1),0) -> 0 | O15: ='U14 Girls Entries'!$E3 -> 0 | P15: ='U14 Girls Entries'!E12 -> 0 | Q15: ='U14 Girls Entries'!$E4 -> 0 | S15: =IF($R15<=$S$12,IF($R15>0,"YES","" )," ") | T15: =IF($R15>0,6-RANK($R15,R$14:R$19,1),0) -> 0
A16: ='U14 Girls Entries'!$H3 -> 0 | B16: ='U14 Girls Entries'!H10 -> 0 | C16: ='U14 Girls Entries'!$H4 -> 0 | E16: =IF($D16<=$E$12,IF($D16>0,"YES","" )," ") | F16: =IF($D16>0,6-RANK($D16,D$14:D$19,1),0) -> 0 | H16: ='U14 Girls Entries'!$H3 -> 0 | I16: ='U14 Girls Entries'!H11 -> 0 | J16: ='U14 Girls Entries'!$H4 -> 0 | L16: =IF($K16<=$L$12,IF($K16>0,"YES","" )," ") | M16: =IF($K16>0,6-RANK($K16,K$14:K$19,1),0) -> 0 | O16: ='U14 Girls Entries'!$H3 -> 0 | P16: ='U14 Girls Entries'!H12 -> 0 | Q16: ='U14 Girls Entries'!$H4 -> 0 | S16: =IF($R16<=$S$12,IF($R16>0,"YES","" )," ") | T16: =IF($R16>0,6-RANK($R16,R$14:R$19,1),0) -> 0
A17: ='U14 Girls Entries'!$K3 -> 0 | B17: ='U14 Girls Entries'!K10 -> 0 | C17: ='U14 Girls Entries'!$K4 -> 0 | E17: =IF($D17<=$E$12,IF($D17>0,"YES","" )," ") | F17: =IF($D17>0,6-RANK($D17,D$14:D$19,1),0) -> 0 | H17: ='U14 Girls Entries'!$K3 -> 0 | I17: ='U14 Girls Entries'!K11 -> 0 | J17: ='U14 Girls Entries'!$K4 -> 0 | L17: =IF($K17<=$L$12,IF($K17>0,"YES","" )," ") | M17: =IF($K17>0,6-RANK($K17,K$14:K$19,1),0) -> 0 | O17: ='U14 Girls Entries'!$K3 -> 0 | P17: ='U14 Girls Entries'!K12 -> 0 | Q17: ='U14 Girls Entries'!$K4 -> 0 | S17: =IF($R17<=$S$12,IF($R17>0,"YES","" )," ") | T17: =IF($R17>0,6-RANK($R17,R$14:R$19,1),0) -> 0
A18: ='U14 Girls Entries'!$N3 -> 0 | B18: ='U14 Girls Entries'!N10 -> 0 | C18: ='U14 Girls Entries'!$N4 -> 0 | E18: =IF($D18<=$E$12,IF($D18>0,"YES","" )," ") | F18: =IF($D18>0,6-RANK($D18,D$14:D$19,1),0) -> 0 | H18: ='U14 Girls Entries'!$N3 -> 0 | I18: ='U14 Girls Entries'!N11 -> 0 | J18: ='U14 Girls Entries'!$N4 -> 0 | L18: =IF($K18<=$L$12,IF($K18>0,"YES","" )," ") | M18: =IF($K18>0,6-RANK($K18,K$14:K$19,1),0) -> 0 | O18: ='U14 Girls Entries'!$N3 -> 0 | P18: ='U14 Girls Entries'!N12 -> 0 | Q18: ='U14 Girls Entries'!$N4 -> 0 | S18: =IF($R18<=$S$12,IF($R18>0,"YES","" )," ") | T18: =IF($R18>0,6-RANK($R18,R$14:R$19,1),0) -> 0
A19: ='U14 Girls Entries'!$Q3 -> 0 | B19: ='U14 Girls Entries'!Q10 -> 0 | C19: ='U14 Girls Entries'!$Q4 -> 0 | E19: =IF($D19<=$E$12,IF($D19>0,"YES","" )," ") | F19: =IF($D19>0,6-RANK($D19,D$14:D$19,1),0) -> 0 | H19: ='U14 Girls Entries'!$Q3 -> 0 | I19: ='U14 Girls Entries'!Q11 -> 0 | J19: ='U14 Girls Entries'!$Q4 -> 0 | L19: =IF($K19<=$L$12,IF($K19>0,"YES","" )," ") | M19: =IF($K19>0,6-RANK($K19,K$14:K$19,1),0) -> 0 | O19: ='U14 Girls Entries'!$Q3 -> 0 | P19: ='U14 Girls Entries'!Q12 -> 0 | Q19: ='U14 Girls Entries'!$Q4 -> 0 | S19: =IF($R19<=$S$12,IF($R19>0,"YES","" )," ") | T19: =IF($R19>0,6-RANK($R19,R$14:R$19,1),0) -> 0
A21: Relay | C21: Record | E21: 0.00061689815 | H21: Long Jump | J21: Record | L21: 5.42 | O21: Triple Jump | Q21: Record | S21: 10.34
A22: School | B22: Name | C22: Vest No. | D22: Time | E22: Record? | F22: Points | H22: School | I22: Name | J22: Vest No. | K22: Distance | L22: Record? | M22: Points | O22: School | P22: Name | Q22: Vest No. | R22: Distance | S22: Record? | T22: Points
A23: ='U14 Girls Entries'!$B3 -> 0 | B23: ='U14 Girls Entries'!B13 -> 0 | C23: ='U14 Girls Entries'!$B4 -> 0 | E23: =IF($D23<=$E$21,IF($D23>0,"YES","" )," ") | F23: =IF($D23>0,6-RANK($D23,D$23:D$28,1),0) -> 0 | H23: ='U14 Girls Entries'!$B3 -> 0 | I23: ='U14 Girls Entries'!B14 -> 0 | J23: ='U14 Girls Entries'!$B4 -> 0 | L23: =IF($K23>=$L$21,IF($K23>0,"YES","" )," ") | M23: =IF($K23>0,6-RANK($K23,K$23:K$28,0),0) -> 0 | O23: ='U14 Girls Entries'!$B3 -> 0 | P23: ='U14 Girls Entries'!B15 -> 0 | Q23: ='U14 Girls Entries'!$B4 -> 0 | T23: =IF($R23>0,6-RANK($R23,R$23:R$28,0),0) -> 0
A24: ='U14 Girls Entries'!$E3 -> 0 | B24: ='U14 Girls Entries'!E13 -> 0 | C24: ='U14 Girls Entries'!$E4 -> 0 | E24: =IF($D24<=$E$21,IF($D24>0,"YES","" )," ") | F24: =IF($D24>0,6-RANK($D24,D$23:D$28,1),0) -> 0 | H24: ='U14 Girls Entries'!$E3 -> 0 | I24: ='U14 Girls Entries'!E14 -> 0 | J24: ='U14 Girls Entries'!$E4 -> 0 | L24: =IF($K24>=$L$21,IF($K24>0,"YES","" )," ") | M24: =IF($K24>0,6-RANK($K24,K$23:K$28,0),0) -> 0 | O24: ='U14 Girls Entries'!$E3 -> 0 | P24: ='U14 Girls Entries'!E15 -> 0 | Q24: ='U14 Girls Entries'!$E4 -> 0 | S24: =IF($R24>=$S$21,IF($R24>0,"YES","" )," ") | T24: =IF($R24>0,6-RANK($R24,R$23:R$28,0),0) -> 0
A25: ='U14 Girls Entries'!$H3 -> 0 | B25: ='U14 Girls Entries'!H13 -> 0 | C25: ='U14 Girls Entries'!$H4 -> 0 | E25: =IF($D25<=$E$21,IF($D25>0,"YES","" )," ") | F25: =IF($D25>0,6-RANK($D25,D$23:D$28,1),0) -> 0 | H25: ='U14 Girls Entries'!$H3 -> 0 | I25: ='U14 Girls Entries'!H14 -> 0 | J25: ='U14 Girls Entries'!$H4 -> 0 | L25: =IF($K25>=$L$21,IF($K25>0,"YES","" )," ") | M25: =IF($K25>0,6-RANK($K25,K$23:K$28,0),0) -> 0 | O25: ='U14 Girls Entries'!$H3 -> 0 | P25: ='U14 Girls Entries'!H15 -> 0 | Q25: ='U14 Girls Entries'!$H4 -> 0 | S25: =IF($R25>=$S$21,IF($R25>0,"YES","" )," ") | T25: =IF($R25>0,6-RANK($R25,R$23:R$28,0),0) -> 0
A26: ='U14 Girls Entries'!$K3 -> 0 | B26: ='U14 Girls Entries'!K13 -> 0 | C26: ='U14 Girls Entries'!$K4 -> 0 | E26: =IF($D26<=$E$21,IF($D26>0,"YES","" )," ") | F26: =IF($D26>0,6-RANK($D26,D$23:D$28,1),0) -> 0 | H26: ='U14 Girls Entries'!$K3 -> 0 | I26: ='U14 Girls Entries'!K14 -> 0 | J26: ='U14 Girls Entries'!$K4 -> 0 | L26: =IF($K26>=$L$21,IF($K26>0,"YES","" )," ") | M26: =IF($K26>0,6-RANK($K26,K$23:K$28,0),0) -> 0 | O26: ='U14 Girls Entries'!$K3 -> 0 | P26: ='U14 Girls Entries'!K15 -> 0 | Q26: ='U14 Girls Entries'!$K4 -> 0 | S26: =IF($R26>=$S$21,IF($R26>0,"YES","" )," ") | T26: =IF($R26>0,6-RANK($R26,R$23:R$28,0),0) -> 0
A27: ='U14 Girls Entries'!$N3 -> 0 | B27: ='U14 Girls Entries'!N13 -> 0 | C27: ='U14 Girls Entries'!$N4 -> 0 | E27: =IF($D27<=$E$21,IF($D27>0,"YES","" )," ") | F27: =IF($D27>0,6-RANK($D27,D$23:D$28,1),0) -> 0 | H27: ='U14 Girls Entries'!$N3 -> 0 | I27: ='U14 Girls Entries'!N14 -> 0 | J27: ='U14 Girls Entries'!$N4 -> 0 | L27: =IF($K27>=$L$21,IF($K27>0,"YES","" )," ") | M27: =IF($K27>0,6-RANK($K27,K$23:K$28,0),0) -> 0 | O27: ='U14 Girls Entries'!$N3 -> 0 | P27: ='U14 Girls Entries'!N15 -> 0 | Q27: ='U14 Girls Entries'!$N4 -> 0 | S27: =IF($R27>=$S$21,IF($R27>0,"YES","" )," ") | T27: =IF($R27>0,6-RANK($R27,R$23:R$28,0),0) -> 0
A28: ='U14 Girls Entries'!$Q3 -> 0 | B28: ='U14 Girls Entries'!Q13 -> 0 | C28: ='U14 Girls Entries'!$Q4 -> 0 | E28: =IF($D28<=$E$21,IF($D28>0,"YES","" )," ") | F28: =IF($D28>0,6-RANK($D28,D$23:D$28,1),0) -> 0 | H28: ='U14 Girls Entries'!$Q3 -> 0 | I28: ='U14 Girls Entries'!Q14 -> 0 | J28: ='U14 Girls Entries'!$Q4 -> 0 | L28: =IF($K28>=$L$21,IF($K28>0,"YES","" )," ") | M28: =IF($K28>0,6-RANK($K28,K$23:K$28,0),0) -> 0 | O28: ='U14 Girls Entries'!$Q3 -> 0 | P28: ='U14 Girls Entries'!Q15 -> 0 | Q28: ='U14 Girls Entries'!$Q4 -> 0 | S28: =IF($R28>=$S$21,IF($R28>0,"YES","" )," ") | T28: =IF($R28>0,6-RANK($R28,R$23:R$28,0),0) -> 0
A30: High Jump | C30: Record | E30: 1.65 | O30: Shot Put | Q30: Record | S30: 10.99
A31: School | B31: Name | C31: Vest No. | D31: Height | E31: Record? | F31: Points | O31: School | P31: Name | Q31: Vest No. | R31: Distance | S31: Record? | T31: Points
A32: ='U14 Girls Entries'!$B3 -> 0 | B32: ='U14 Girls Entries'!B16 -> 0 | C32: ='U14 Girls Entries'!$B4 -> 0 | E32: =IF($D32>=$E$30,IF($D32>0,"YES","" )," ") | F32: =IF($D32>0,6-RANK($D32,D$32:D$37,0),0) -> 0 | O32: ='U14 Girls Entries'!$B3 -> 0 | P32: ='U14 Girls Entries'!B18 -> 0 | Q32: ='U14 Girls Entries'!$B4 -> 0 | S32: =IF($R32>=$S$30,IF($R32>0,"YES","" )," ") | T32: =IF($R32>0,6-RANK($R32,R$32:R$37,0),0) -> 0
A33: ='U14 Girls Entries'!$E3 -> 0 | B33: ='U14 Girls Entries'!E16 -> 0 | C33: ='U14 Girls Entries'!$E4 -> 0 | E33: =IF($D33>=$E$30,IF($D33>0,"YES","" )," ") | F33: =IF($D33>0,6-RANK($D33,D$32:D$37,0),0) -> 0 | O33: ='U14 Girls Entries'!$E3 -> 0 | P33: ='U14 Girls Entries'!E18 -> 0 | Q33: ='U14 Girls Entries'!$E4 -> 0 | S33: =IF($R33>=$S$30,IF($R33>0,"YES","" )," ") | T33: =IF($R33>0,6-RANK($R33,R$32:R$37,0),0) -> 0
A34: ='U14 Girls Entries'!$H3 -> 0 | B34: ='U14 Girls Entries'!H16 -> 0 | C34: ='U14 Girls Entries'!$H4 -> 0 | E34: =IF($D34>=$E$30,IF($D34>0,"YES","" )," ") | F34: =IF($D34>0,6-RANK($D34,D$32:D$37,0),0) -> 0 | O34: ='U14 Girls Entries'!$H3 -> 0 | P34: ='U14 Girls Entries'!H18 -> 0 | Q34: ='U14 Girls Entries'!$H4 -> 0 | S34: =IF($R34>=$S$30,IF($R34>0,"YES","" )," ") | T34: =IF($R34>0,6-RANK($R34,R$32:R$37,0),0) -> 0
A35: ='U14 Girls Entries'!$K3 -> 0 | B35: ='U14 Girls Entries'!K16 -> 0 | C35: ='U14 Girls Entries'!$K4 -> 0 | E35: =IF($D35>=$E$30,IF($D35>0,"YES","" )," ") | F35: =IF($D35>0,6-RANK($D35,D$32:D$37,0),0) -> 0 | O35: ='U14 Girls Entries'!$K3 -> 0 | P35: ='U14 Girls Entries'!K18 -> 0 | Q35: ='U14 Girls Entries'!$K4 -> 0 | S35: =IF($R35>=$S$30,IF($R35>0,"YES","" )," ") | T35: =IF($R35>0,6-RANK($R35,R$32:R$37,0),0) -> 0
A36: ='U14 Girls Entries'!$N3 -> 0 | B36: ='U14 Girls Entries'!N16 -> 0 | C36: ='U14 Girls Entries'!$N4 -> 0 | E36: =IF($D36>=$E$30,IF($D36>0,"YES","" )," ") | F36: =IF($D36>0,6-RANK($D36,D$32:D$37,0),0) -> 0 | O36: ='U14 Girls Entries'!$N3 -> 0 | P36: ='U14 Girls Entries'!N18 -> 0 | Q36: ='U14 Girls Entries'!$N4 -> 0 | S36: =IF($R36>=$S$30,IF($R36>0,"YES","" )," ") | T36: =IF($R36>0,6-RANK($R36,R$32:R$37,0),0) -> 0
A37: ='U14 Girls Entries'!$Q3 -> 0 | B37: ='U14 Girls Entries'!Q16 -> 0 | C37: ='U14 Girls Entries'!$Q4 -> 0 | E37: =IF($D37>=$E$30,IF($D37>0,"YES","" )," ") | F37: =IF($D37>0,6-RANK($D37,D$32:D$37,0),0) -> 0 | O37: ='U14 Girls Entries'!$Q3 -> 0 | P37: ='U14 Girls Entries'!Q18 -> 0 | Q37: ='U14 Girls Entries'!$Q4 -> 0 | S37: =IF($R37>=$S$30,IF($R37>0,"YES","" )," ") | T37: =IF($R37>0,6-RANK($R37,R$32:R$37,0),0) -> 0
A39: Discus | C39: Record | E39: 30.05 | H39: Javelin | J39: Record | L39: 30.57 | O39: Results
A40: School | B40: Name | C40: Vest No. | D40: Distance | E40: Record? | F40: Points | H40: School | I40: Name | J40: Vest No. | K40: Distance | L40: Record? | M40: Points | O40: School | Q40: Vest No. | R40: Points
A41: ='U14 Girls Entries'!$B3 -> 0 | B41: ='U14 Girls Entries'!B19 -> 0 | C41: ='U14 Girls Entries'!$B4 -> 0 | E41: =IF($D41>=$E$39,IF($D41>0,"YES","" )," ") | F41: =IF($D41>0,6-RANK($D41,D$41:D$46,0),0) -> 0 | H41: ='U14 Girls Entries'!$B3 -> 0 | I41: ='U14 Girls Entries'!B20 -> 0 | J41: ='U14 Girls Entries'!$B4 -> 0 | L41: =IF($K41>=$L$39,IF($K41>0,"YES","" )," ") | M41: =IF($K41>0,6-RANK($K41,K$41:K$46,0),0) -> 0 | O41: ='U14 Girls Entries'!$B3 -> 0 | Q41: ='U14 Girls Entries'!$B4 -> 0 | R41: =SUM(F5,M5,T5,F14,M14,T14,F23,M23,T23,T32,M32,F32,F41,M41) -> 0
A42: ='U14 Girls Entries'!$E3 -> 0 | B42: ='U14 Girls Entries'!E19 -> 0 | C42: ='U14 Girls Entries'!$E4 -> 0 | E42: =IF($D42>=$E$39,IF($D42>0,"YES","" )," ") | F42: =IF($D42>0,6-RANK($D42,D$41:D$46,0),0) -> 0 | H42: ='U14 Girls Entries'!$E3 -> 0 | I42: ='U14 Girls Entries'!E20 -> 0 | J42: ='U14 Girls Entries'!$E4 -> 0 | L42: =IF($K42>=$L$39,IF($K42>0,"YES","" )," ") | M42: =IF($K42>0,6-RANK($K42,K$41:K$46,0),0) -> 0 | O42: ='U14 Girls Entries'!$E3 -> 0 | Q42: ='U14 Girls Entries'!$E4 -> 0 | R42: =SUM(F6,M6,T6,F15,M15,T15,F24,M24,T24,T33,M33,F33,F42,M42) -> 0
A43: ='U14 Girls Entries'!$H3 -> 0 | B43: ='U14 Girls Entries'!H19 -> 0 | C43: ='U14 Girls Entries'!$H4 -> 0 | E43: =IF($D43>=$E$39,IF($D43>0,"YES","" )," ") | F43: =IF($D43>0,6-RANK($D43,D$41:D$46,0),0) -> 0 | H43: ='U14 Girls Entries'!$H3 -> 0 | I43: ='U14 Girls Entries'!H20 -> 0 | J43: ='U14 Girls Entries'!$H4 -> 0 | L43: =IF($K43>=$L$39,IF($K43>0,"YES","" )," ") | M43: =IF($K43>0,6-RANK($K43,K$41:K$46,0),0) -> 0 | O43: ='U14 Girls Entries'!$H3 -> 0 | Q43: ='U14 Girls Entries'!$H4 -> 0 | R43: =SUM(F7,M7,T7,F16,M16,T16,F25,M25,T25,T34,M34,F34,F43,M43) -> 0
A44: ='U14 Girls Entries'!$K3 -> 0 | B44: ='U14 Girls Entries'!K19 -> 0 | C44: ='U14 Girls Entries'!$K4 -> 0 | E44: =IF($D44>=$E$39,IF($D44>0,"YES","" )," ") | F44: =IF($D44>0,6-RANK($D44,D$41:D$46,0),0) -> 0 | H44: ='U14 Girls Entries'!$K3 -> 0 | I44: ='U14 Girls Entries'!K20 -> 0 | J44: ='U14 Girls Entries'!$K4 -> 0 | L44: =IF($K44>=$L$39,IF($K44>0,"YES","" )," ") | M44: =IF($K44>0,6-RANK($K44,K$41:K$46,0),0) -> 0 | O44: ='U14 Girls Entries'!$K3 -> 0 | Q44: ='U14 Girls Entries'!$K4 -> 0 | R44: =SUM(F8,M8,T8,F17,M17,T17,F26,M26,T26,T35,M35,F35,F44,M44) -> 0
A45: ='U14 Girls Entries'!$N3 -> 0 | B45: ='U14 Girls Entries'!N19 -> 0 | C45: ='U14 Girls Entries'!$N4 -> 0 | E45: =IF($D45>=$E$39,IF($D45>0,"YES","" )," ") | F45: =IF($D45>0,6-RANK($D45,D$41:D$46,0),0) -> 0 | H45: ='U14 Girls Entries'!$N3 -> 0 | I45: ='U14 Girls Entries'!N20 -> 0 | J45: ='U14 Girls Entries'!$N4 -> 0 | L45: =IF($K45>=$L$39,IF($K45>0,"YES","" )," ") | M45: =IF($K45>0,6-RANK($K45,K$41:K$46,0),0) -> 0 | O45: ='U14 Girls Entries'!$N3 -> 0 | Q45: ='U14 Girls Entries'!$N4 -> 0 | R45: =SUM(F9,M9,T9,F18,M18,T18,F27,M27,T27,T36,M36,F36,F45,M45) -> 0
A46: ='U14 Girls Entries'!$Q3 -> 0 | B46: ='U14 Girls Entries'!Q19 -> 0 | C46: ='U14 Girls Entries'!$Q4 -> 0 | E46: =IF($D46>=$E$39,IF($D46>0,"YES","" )," ") | F46: =IF($D46>0,6-RANK($D46,D$41:D$46,0),0) -> 0 | H46: ='U14 Girls Entries'!$Q3 -> 0 | I46: ='U14 Girls Entries'!Q20 -> 0 | J46: ='U14 Girls Entries'!$Q4 -> 0 | L46: =IF($K46>=$L$39,IF($K46>0,"YES","" )," ") | M46: =IF($K46>0,6-RANK($K46,K$41:K$46,0),0) -> 0 | O46: ='U14 Girls Entries'!$Q3 -> 0 | Q46: ='U14 Girls Entries'!$Q4 -> 0 | R46: =SUM(F10,M10,T10,F19,M19,T19,F28,M28,T28,T37,M37,F37,F46,M46) -> 0

Sheet U16 Boys Results
O1: U16 Boys
A3: 100m | C3: Record | E3: 10.9 | H3: 200m | J3: Record | L3: 22.4 | O3: 400m | Q3: Record | S3: 0.00058101852
A4: School | B4: Name | C4: Vest No. | D4: Time | E4: Record? | F4: Points | H4: School | I4: Name | J4: Vest No. | K4: Time | L4: Record? | M4: Points | O4: School | P4: Name | Q4: Vest No. | R4: Time | S4: Record? | T4: Points
A5: ='U16 Boys Entries'!$B3 -> 0 | B5: ='U16 Boys Entries'!B7 -> 0 | C5: ='U16 Boys Entries'!$B4 -> 0 | E5: =IF($D5<=$E$3,IF($D5>0,"YES","" )," ") | F5: =IF($D5>0,6-RANK($D5,D$5:D$10,1),0) -> 0 | H5: ='U16 Boys Entries'!$B3 -> 0 | I5: ='U16 Boys Entries'!B8 -> 0 | J5: ='U16 Boys Entries'!$B4 -> 0 | L5: =IF($K5<=$L$3,IF($K5>0,"YES","" )," ") | M5: =IF($K5>0,6-RANK($K5,K$5:K$10,1),0) -> 0 | O5: ='U16 Boys Entries'!$B3 -> 0 | P5: ='U16 Boys Entries'!B9 -> 0 | Q5: ='U16 Boys Entries'!$B4 -> 0 | S5: =IF($R5<=$S$3,IF($R5>0,"YES","" )," ") | T5: =IF($R5>0,6-RANK($R5,R$5:R$10,1),0) -> 0
A6: ='U16 Boys Entries'!$E3 -> 0 | B6: ='U16 Boys Entries'!E7 -> 0 | C6: ='U16 Boys Entries'!$E4 -> 0 | E6: =IF($D6<=$E$3,IF($D6>0,"YES","" )," ") | F6: =IF($D6>0,6-RANK($D6,D$5:D$10,1),0) -> 0 | H6: ='U16 Boys Entries'!$E3 -> 0 | I6: ='U16 Boys Entries'!E8 -> 0 | J6: ='U16 Boys Entries'!$E4 -> 0 | L6: =IF($K6<=$L$3,IF($K6>0,"YES","" )," ") | M6: =IF($K6>0,6-RANK($K6,K$5:K$10,1),0) -> 0 | O6: ='U16 Boys Entries'!$E3 -> 0 | P6: ='U16 Boys Entries'!E9 -> 0 | Q6: ='U16 Boys Entries'!$E4 -> 0 | S6: =IF($R6<=$S$3,IF($R6>0,"YES","" )," ") | T6: =IF($R6>0,6-RANK($R6,R$5:R$10,1),0) -> 0
A7: ='U16 Boys Entries'!$H3 -> 0 | B7: ='U16 Boys Entries'!H7 -> 0 | C7: ='U16 Boys Entries'!$H4 -> 0 | E7: =IF($D7<=$E$3,IF($D7>0,"YES","" )," ") | F7: =IF($D7>0,6-RANK($D7,D$5:D$10,1),0) -> 0 | H7: ='U16 Boys Entries'!$H3 -> 0 | I7: ='U16 Boys Entries'!H8 -> 0 | J7: ='U16 Boys Entries'!$H4 -> 0 | L7: =IF($K7<=$L$3,IF($K7>0,"YES","" )," ") | M7: =IF($K7>0,6-RANK($K7,K$5:K$10,1),0) -> 0 | O7: ='U16 Boys Entries'!$H3 -> 0 | P7: ='U16 Boys Entries'!H9 -> 0 | Q7: ='U16 Boys Entries'!$H4 -> 0 | S7: =IF($R7<=$S$3,IF($R7>0,"YES","" )," ") | T7: =IF($R7>0,6-RANK($R7,R$5:R$10,1),0) -> 0
A8: ='U16 Boys Entries'!$K3 -> 0 | B8: ='U16 Boys Entries'!K7 -> 0 | C8: ='U16 Boys Entries'!$K4 -> 0 | E8: =IF($D8<=$E$3,IF($D8>0,"YES","" )," ") | F8: =IF($D8>0,6-RANK($D8,D$5:D$10,1),0) -> 0 | H8: ='U16 Boys Entries'!$K3 -> 0 | I8: ='U16 Boys Entries'!K8 -> 0 | J8: ='U16 Boys Entries'!$K4 -> 0 | L8: =IF($K8<=$L$3,IF($K8>0,"YES","" )," ") | M8: =IF($K8>0,6-RANK($K8,K$5:K$10,1),0) -> 0 | O8: ='U16 Boys Entries'!$K3 -> 0 | P8: ='U16 Boys Entries'!K9 -> 0 | Q8: ='U16 Boys Entries'!$K4 -> 0 | S8: =IF($R8<=$S$3,IF($R8>0,"YES","" )," ") | T8: =IF($R8>0,6-RANK($R8,R$5:R$10,1),0) -> 0
A9: ='U16 Boys Entries'!$N3 -> 0 | B9: ='U16 Boys Entries'!N7 -> 0 | C9: ='U16 Boys Entries'!$N4 -> 0 | E9: =IF($D9<=$E$3,IF($D9>0,"YES","" )," ") | F9: =IF($D9>0,6-RANK($D9,D$5:D$10,1),0) -> 0 | H9: ='U16 Boys Entries'!$N3 -> 0 | I9: ='U16 Boys Entries'!N8 -> 0 | J9: ='U16 Boys Entries'!$N4 -> 0 | L9: =IF($K9<=$L$3,IF($K9>0,"YES","" )," ") | M9: =IF($K9>0,6-RANK($K9,K$5:K$10,1),0) -> 0 | O9: ='U16 Boys Entries'!$N3 -> 0 | P9: ='U16 Boys Entries'!N9 -> 0 | Q9: ='U16 Boys Entries'!$N4 -> 0 | S9: =IF($R9<=$S$3,IF($R9>0,"YES","" )," ") | T9: =IF($R9>0,6-RANK($R9,R$5:R$10,1),0) -> 0
A10: ='U16 Boys Entries'!$Q3 -> 0 | B10: ='U16 Boys Entries'!Q7 -> 0 | C10: ='U16 Boys Entries'!$Q4 -> 0 | E10: =IF($D10<=$E$3,IF($D10>0,"YES","" )," ") | F10: =IF($D10>0,6-RANK($D10,D$5:D$10,1),0) -> 0 | H10: ='U16 Boys Entries'!$Q3 -> 0 | I10: ='U16 Boys Entries'!Q8 -> 0 | J10: ='U16 Boys Entries'!$Q4 -> 0 | L10: =IF($K10<=$L$3,IF($K10>0,"YES","" )," ") | M10: =IF($K10>0,6-RANK($K10,K$5:K$10,1),0) -> 0 | O10: ='U16 Boys Entries'!$Q3 -> 0 | P10: ='U16 Boys Entries'!Q9 -> 0 | Q10: ='U16 Boys Entries'!$Q4 -> 0 | S10: =IF($R10<=$S$3,IF($R10>0,"YES","" )," ") | T10: =IF($R10>0,6-RANK($R10,R$5:R$10,1),0) -> 0
A12: 800m | C12: Record | E12: 0.0013657407 | H12: 1500m | J12: Record | L12: 0.0029143519 | O12: Hurdles | Q12: Record | S12: 13.3
A13: School | B13: Name | C13: Vest No. | D13: Time | E13: Record? | F13: Points | H13: School | I13: Name | J13: Vest No. | K13: Time | L13: Record? | M13: Points | O13: School | P13: Name | Q13: Vest No. | R13: Time | S13: Record? | T13: Points
A14: ='U16 Boys Entries'!$B3 -> 0 | B14: ='U16 Boys Entries'!B10 -> 0 | C14: ='U16 Boys Entries'!$B4 -> 0 | E14: =IF($D14<=$E$12,IF($D14>0,"YES","" )," ") | F14: =IF($D14>0,6-RANK($D14,D$14:D$19,1),0) -> 0 | H14: ='U16 Boys Entries'!$B3 -> 0 | I14: ='U16 Boys Entries'!B11 -> 0 | J14: ='U16 Boys Entries'!$B4 -> 0 | L14: =IF($K14<=$L$12,IF($K14>0,"YES","" )," ") | M14: =IF($K14>0,6-RANK($K14,K$14:K$19,1),0) -> 0 | O14: ='U16 Boys Entries'!$B3 -> 0 | P14: ='U16 Boys Entries'!B12 -> 0 | Q14: ='U16 Boys Entries'!$B4 -> 0 | S14: =IF($R14<=$S$12,IF($R14>0,"YES","" )," ") | T14: =IF($R14>0,6-RANK($R14,R$14:R$19,1),0) -> 0
A15: ='U16 Boys Entries'!$E3 -> 0 | B15: ='U16 Boys Entries'!E10 -> 0 | C15: ='U16 Boys Entries'!$E4 -> 0 | E15: =IF($D15<=$E$12,IF($D15>0,"YES","" )," ") | F15: =IF($D15>0,6-RANK($D15,D$14:D$19,1),0) -> 0 | H15: ='U16 Boys Entries'!$E3 -> 0 | I15: ='U16 Boys Entries'!E11 -> 0 | J15: ='U16 Boys Entries'!$E4 -> 0 | L15: =IF($K15<=$L$12,IF($K15>0,"YES","" )," ") | M15: =IF($K15>0,6-RANK($K15,K$14:K$19,1),0) -> 0 | O15: ='U16 Boys Entries'!$E3 -> 0 | P15: ='U16 Boys Entries'!E12 -> 0 | Q15: ='U16 Boys Entries'!$E4 -> 0 | S15: =IF($R15<=$S$12,IF($R15>0,"YES","" )," ") | T15: =IF($R15>0,6-RANK($R15,R$14:R$19,1),0) -> 0
A16: ='U16 Boys Entries'!$H3 -> 0 | B16: ='U16 Boys Entries'!H10 -> 0 | C16: ='U16 Boys Entries'!$H4 -> 0 | E16: =IF($D16<=$E$12,IF($D16>0,"YES","" )," ") | F16: =IF($D16>0,6-RANK($D16,D$14:D$19,1),0) -> 0 | H16: ='U16 Boys Entries'!$H3 -> 0 | I16: ='U16 Boys Entries'!H11 -> 0 | J16: ='U16 Boys Entries'!$H4 -> 0 | L16: =IF($K16<=$L$12,IF($K16>0,"YES","" )," ") | M16: =IF($K16>0,6-RANK($K16,K$14:K$19,1),0) -> 0 | O16: ='U16 Boys Entries'!$H3 -> 0 | P16: ='U16 Boys Entries'!H12 -> 0 | Q16: ='U16 Boys Entries'!$H4 -> 0 | S16: =IF($R16<=$S$12,IF($R16>0,"YES","" )," ") | T16: =IF($R16>0,6-RANK($R16,R$14:R$19,1),0) -> 0
A17: ='U16 Boys Entries'!$K3 -> 0 | B17: ='U16 Boys Entries'!K10 -> 0 | C17: ='U16 Boys Entries'!$K4 -> 0 | E17: =IF($D17<=$E$12,IF($D17>0,"YES","" )," ") | F17: =IF($D17>0,6-RANK($D17,D$14:D$19,1),0) -> 0 | H17: ='U16 Boys Entries'!$K3 -> 0 | I17: ='U16 Boys Entries'!K11 -> 0 | J17: ='U16 Boys Entries'!$K4 -> 0 | L17: =IF($K17<=$L$12,IF($K17>0,"YES","" )," ") | M17: =IF($K17>0,6-RANK($K17,K$14:K$19,1),0) -> 0 | O17: ='U16 Boys Entries'!$K3 -> 0 | P17: ='U16 Boys Entries'!K12 -> 0 | Q17: ='U16 Boys Entries'!$K4 -> 0 | S17: =IF($R17<=$S$12,IF($R17>0,"YES","" )," ") | T17: =IF($R17>0,6-RANK($R17,R$14:R$19,1),0) -> 0
A18: ='U16 Boys Entries'!$N3 -> 0 | B18: ='U16 Boys Entries'!N10 -> 0 | C18: ='U16 Boys Entries'!$N4 -> 0 | E18: =IF($D18<=$E$12,IF($D18>0,"YES","" )," ") | F18: =IF($D18>0,6-RANK($D18,D$14:D$19,1),0) -> 0 | H18: ='U16 Boys Entries'!$N3 -> 0 | I18: ='U16 Boys Entries'!N11 -> 0 | J18: ='U16 Boys Entries'!$N4 -> 0 | L18: =IF($K18<=$L$12,IF($K18>0,"YES","" )," ") | M18: =IF($K18>0,6-RANK($K18,K$14:K$19,1),0) -> 0 | O18: ='U16 Boys Entries'!$N3 -> 0 | P18: ='U16 Boys Entries'!N12 -> 0 | Q18: ='U16 Boys Entries'!$N4 -> 0 | S18: =IF($R18<=$S$12,IF($R18>0,"YES","" )," ") | T18: =IF($R18>0,6-RANK($R18,R$14:R$19,1),0) -> 0
A19: ='U16 Boys Entries'!$Q3 -> 0 | B19: ='U16 Boys Entries'!Q10 -> 0 | C19: ='U16 Boys Entries'!$Q4 -> 0 | E19: =IF($D19<=$E$12,IF($D19>0,"YES","" )," ") | F19: =IF($D19>0,6-RANK($D19,D$14:D$19,1),0) -> 0 | H19: ='U16 Boys Entries'!$Q3 -> 0 | I19: ='U16 Boys Entries'!Q11 -> 0 | J19: ='U16 Boys Entries'!$Q4 -> 0 | L19: =IF($K19<=$L$12,IF($K19>0,"YES","" )," ") | M19: =IF($K19>0,6-RANK($K19,K$14:K$19,1),0) -> 0 | O19: ='U16 Boys Entries'!$Q3 -> 0 | P19: ='U16 Boys Entries'!Q12 -> 0 | Q19: ='U16 Boys Entries'!$Q4 -> 0 | S19: =IF($R19<=$S$12,IF($R19>0,"YES","" )," ") | T19: =IF($R19>0,6-RANK($R19,R$14:R$19,1),0) -> 0
A21: Relay | C21: Record | E21: 0.00052314815 | H21: Long Jump | J21: Record | L21: 6.81 | O21: Triple Jump | Q21: Record | S21: 13.52
A22: School | B22: Name | C22: Vest No. | D22: Time | E22: Record? | F22: Points | H22: School | I22: Name | J22: Vest No. | K22: Distance | L22: Record? | M22: Points | O22: School | P22: Name | Q22: Vest No. | R22: Distance | S22: Record? | T22: Points
A23: ='U16 Boys Entries'!$B3 -> 0 | B23: ='U16 Boys Entries'!B13 -> 0 | C23: ='U16 Boys Entries'!$B4 -> 0 | E23: =IF($D23<=$E$21,IF($D23>0,"YES","" )," ") | F23: =IF($D23>0,6-RANK($D23,D$23:D$28,1),0) -> 0 | H23: ='U16 Boys Entries'!$B3 -> 0 | I23: ='U16 Boys Entries'!B14 -> 0 | J23: ='U16 Boys Entries'!$B4 -> 0 | L23: =IF($K23>=$L$21,IF($K23>0,"YES","" )," ") | M23: =IF($K23>0,6-RANK($K23,K$23:K$28,0),0) -> 0 | O23: ='U16 Boys Entries'!$B3 -> 0 | P23: ='U16 Boys Entries'!B15 -> 0 | Q23: ='U16 Boys Entries'!$B4 -> 0 | S23: =IF($R23>=$S$21,IF($R23>0,"YES","" )," ") | T23: =IF($R23>0,6-RANK($R23,R$23:R$28,0),0) -> 0
A24: ='U16 Boys Entries'!$E3 -> 0 | B24: ='U16 Boys Entries'!E13 -> 0 | C24: ='U16 Boys Entries'!$E4 -> 0 | E24: =IF($D24<=$E$21,IF($D24>0,"YES","" )," ") | F24: =IF($D24>0,6-RANK($D24,D$23:D$28,1),0) -> 0 | H24: ='U16 Boys Entries'!$E3 -> 0 | I24: ='U16 Boys Entries'!E14 -> 0 | J24: ='U16 Boys Entries'!$E4 -> 0 | L24: =IF($K24>=$L$21,IF($K24>0,"YES","" )," ") | M24: =IF($K24>0,6-RANK($K24,K$23:K$28,0),0) -> 0 | O24: ='U16 Boys Entries'!$E3 -> 0 | P24: ='U16 Boys Entries'!E15 -> 0 | Q24: ='U16 Boys Entries'!$E4 -> 0 | S24: =IF($R24>=$S$21,IF($R24>0,"YES","" )," ") | T24: =IF($R24>0,6-RANK($R24,R$23:R$28,0),0) -> 0
A25: ='U16 Boys Entries'!$H3 -> 0 | B25: ='U16 Boys Entries'!H13 -> 0 | C25: ='U16 Boys Entries'!$H4 -> 0 | E25: =IF($D25<=$E$21,IF($D25>0,"YES","" )," ") | F25: =IF($D25>0,6-RANK($D25,D$23:D$28,1),0) -> 0 | H25: ='U16 Boys Entries'!$H3 -> 0 | I25: ='U16 Boys Entries'!H14 -> 0 | J25: ='U16 Boys Entries'!$H4 -> 0 | L25: =IF($K25>=$L$21,IF($K25>0,"YES","" )," ") | M25: =IF($K25>0,6-RANK($K25,K$23:K$28,0),0) -> 0 | O25: ='U16 Boys Entries'!$H3 -> 0 | P25: ='U16 Boys Entries'!H15 -> 0 | Q25: ='U16 Boys Entries'!$H4 -> 0 | S25: =IF($R25>=$S$21,IF($R25>0,"YES","" )," ") | T25: =IF($R25>0,6-RANK($R25,R$23:R$28,0),0) -> 0
A26: ='U16 Boys Entries'!$K3 -> 0 | B26: ='U16 Boys Entries'!K13 -> 0 | C26: ='U16 Boys Entries'!$K4 -> 0 | E26: =IF($D26<=$E$21,IF($D26>0,"YES","" )," ") | F26: =IF($D26>0,6-RANK($D26,D$23:D$28,1),0) -> 0 | H26: ='U16 Boys Entries'!$K3 -> 0 | I26: ='U16 Boys Entries'!K14 -> 0 | J26: ='U16 Boys Entries'!$K4 -> 0 | L26: =IF($K26>=$L$21,IF($K26>0,"YES","" )," ") | M26: =IF($K26>0,6-RANK($K26,K$23:K$28,0),0) -> 0 | O26: ='U16 Boys Entries'!$K3 -> 0 | P26: ='U16 Boys Entries'!K15 -> 0 | Q26: ='U16 Boys Entries'!$K4 -> 0 | S26: =IF($R26>=$S$21,IF($R26>0,"YES","" )," ") | T26: =IF($R26>0,6-RANK($R26,R$23:R$28,0),0) -> 0
A27: ='U16 Boys Entries'!$N3 -> 0 | B27: ='U16 Boys Entries'!N13 -> 0 | C27: ='U16 Boys Entries'!$N4 -> 0 | E27: =IF($D27<=$E$21,IF($D27>0,"YES","" )," ") | F27: =IF($D27>0,6-RANK($D27,D$23:D$28,1),0) -> 0 | H27: ='U16 Boys Entries'!$N3 -> 0 | I27: ='U16 Boys Entries'!N14 -> 0 | J27: ='U16 Boys Entries'!$N4 -> 0 | L27: =IF($K27>=$L$21,IF($K27>0,"YES","" )," ") | M27: =IF($K27>0,6-RANK($K27,K$23:K$28,0),0) -> 0 | O27: ='U16 Boys Entries'!$N3 -> 0 | P27: ='U16 Boys Entries'!N15 -> 0 | Q27: ='U16 Boys Entries'!$N4 -> 0 | S27: =IF($R27>=$S$21,IF($R27>0,"YES","" )," ") | T27: =IF($R27>0,6-RANK($R27,R$23:R$28,0),0) -> 0
A28: ='U16 Boys Entries'!$Q3 -> 0 | B28: ='U16 Boys Entries'!Q13 -> 0 | C28: ='U16 Boys Entries'!$Q4 -> 0 | E28: =IF($D28<=$E$21,IF($D28>0,"YES","" )," ") | F28: =IF($D28>0,6-RANK($D28,D$23:D$28,1),0) -> 0 | H28: ='U16 Boys Entries'!$Q3 -> 0 | I28: ='U16 Boys Entries'!Q14 -> 0 | J28: ='U16 Boys Entries'!$Q4 -> 0 | L28: =IF($K28>=$L$21,IF($K28>0,"YES","" )," ") | M28: =IF($K28>0,6-RANK($K28,K$23:K$28,0),0) -> 0 | O28: ='U16 Boys Entries'!$Q3 -> 0 | P28: ='U16 Boys Entries'!Q15 -> 0 | Q28: ='U16 Boys Entries'!$Q4 -> 0 | S28: =IF($R28>=$S$21,IF($R28>0,"YES","" )," ") | T28: =IF($R28>0,6-RANK($R28,R$23:R$28,0),0) -> 0
A30: High Jump | C30: Record | E30: 2.01 | H30: Pole Vault | J30: Record | L30: 4.01 | O30: Shot Put | Q30: Record | S30: 16.47
A31: School | B31: Name | C31: Vest No. | D31: Height | E31: Record? | F31: Points | H31: School | I31: Name | J31: Vest No. | K31: Height | L31: Record? | M31: Points | O31: School | P31: Name | Q31: Vest No. | R31: Distance | S31: Record? | T31: Points
A32: ='U16 Boys Entries'!$B3 -> 0 | B32: ='U16 Boys Entries'!B16 -> 0 | C32: ='U16 Boys Entries'!$B4 -> 0 | E32: =IF($D32>=$E$30,IF($D32>0,"YES","" )," ") | F32: =IF($D32>0,6-RANK($D32,D$32:D$37,0),0) -> 0 | H32: ='U16 Boys Entries'!$B3 -> 0 | I32: ='U16 Boys Entries'!B17 -> 0 | J32: ='U16 Boys Entries'!$B4 -> 0 | L32: =IF($K32>=$L$30,IF($K32>0,"YES","" )," ") | M32: =IF($K32>0,6-RANK($K32,K$32:K$37,0),0) -> 0 | O32: ='U16 Boys Entries'!$B3 -> 0 | P32: ='U16 Boys Entries'!B18 -> 0 | Q32: ='U16 Boys Entries'!$B4 -> 0 | S32: =IF($R32>=$S$30,IF($R32>0,"YES","" )," ") | T32: =IF($R32>0,6-RANK($R32,R$32:R$37,0),0) -> 0
A33: ='U16 Boys Entries'!$E3 -> 0 | B33: ='U16 Boys Entries'!E16 -> 0 | C33: ='U16 Boys Entries'!$E4 -> 0 | E33: =IF($D33>=$E$30,IF($D33>0,"YES","" )," ") | F33: =IF($D33>0,6-RANK($D33,D$32:D$37,0),0) -> 0 | H33: ='U16 Boys Entries'!$E3 -> 0 | I33: ='U16 Boys Entries'!E17 -> 0 | J33: ='U16 Boys Entries'!$E4 -> 0 | L33: =IF($K33>=$L$30,IF($K33>0,"YES","" )," ") | M33: =IF($K33>0,6-RANK($K33,K$32:K$37,0),0) -> 0 | O33: ='U16 Boys Entries'!$E3 -> 0 | P33: ='U16 Boys Entries'!E18 -> 0 | Q33: ='U16 Boys Entries'!$E4 -> 0 | S33: =IF($R33>=$S$30,IF($R33>0,"YES","" )," ") | T33: =IF($R33>0,6-RANK($R33,R$32:R$37,0),0) -> 0
A34: ='U16 Boys Entries'!$H3 -> 0 | B34: ='U16 Boys Entries'!H16 -> 0 | C34: ='U16 Boys Entries'!$H4 -> 0 | E34: =IF($D34>=$E$30,IF($D34>0,"YES","" )," ") | F34: =IF($D34>0,6-RANK($D34,D$32:D$37,0),0) -> 0 | H34: ='U16 Boys Entries'!$H3 -> 0 | I34: ='U16 Boys Entries'!H17 -> 0 | J34: ='U16 Boys Entries'!$H4 -> 0 | L34: =IF($K34>=$L$30,IF($K34>0,"YES","" )," ") | M34: =IF($K34>0,6-RANK($K34,K$32:K$37,0),0) -> 0 | O34: ='U16 Boys Entries'!$H3 -> 0 | P34: ='U16 Boys Entries'!H18 -> 0 | Q34: ='U16 Boys Entries'!$H4 -> 0 | S34: =IF($R34>=$S$30,IF($R34>0,"YES","" )," ") | T34: =IF($R34>0,6-RANK($R34,R$32:R$37,0),0) -> 0
A35: ='U16 Boys Entries'!$K3 -> 0 | B35: ='U16 Boys Entries'!K16 -> 0 | C35: ='U16 Boys Entries'!$K4 -> 0 | E35: =IF($D35>=$E$30,IF($D35>0,"YES","" )," ") | F35: =IF($D35>0,6-RANK($D35,D$32:D$37,0),0) -> 0 | H35: ='U16 Boys Entries'!$K3 -> 0 | I35: ='U16 Boys Entries'!K17 -> 0 | J35: ='U16 Boys Entries'!$K4 -> 0 | L35: =IF($K35>=$L$30,IF($K35>0,"YES","" )," ") | M35: =IF($K35>0,6-RANK($K35,K$32:K$37,0),0) -> 0 | O35: ='U16 Boys Entries'!$K3 -> 0 | P35: ='U16 Boys Entries'!K18 -> 0 | Q35: ='U16 Boys Entries'!$K4 -> 0 | S35: =IF($R35>=$S$30,IF($R35>0,"YES","" )," ") | T35: =IF($R35>0,6-RANK($R35,R$32:R$37,0),0) -> 0
A36: ='U16 Boys Entries'!$N3 -> 0 | B36: ='U16 Boys Entries'!N16 -> 0 | C36: ='U16 Boys Entries'!$N4 -> 0 | E36: =IF($D36>=$E$30,IF($D36>0,"YES","" )," ") | F36: =IF($D36>0,6-RANK($D36,D$32:D$37,0),0) -> 0 | H36: ='U16 Boys Entries'!$N3 -> 0 | I36: ='U16 Boys Entries'!N17 -> 0 | J36: ='U16 Boys Entries'!$N4 -> 0 | L36: =IF($K36>=$L$30,IF($K36>0,"YES","" )," ") | M36: =IF($K36>0,6-RANK($K36,K$32:K$37,0),0) -> 0 | O36: ='U16 Boys Entries'!$N3 -> 0 | P36: ='U16 Boys Entries'!N18 -> 0 | Q36: ='U16 Boys Entries'!$N4 -> 0 | S36: =IF($R36>=$S$30,IF($R36>0,"YES","" )," ") | T36: =IF($R36>0,6-RANK($R36,R$32:R$37,0),0) -> 0
A37: ='U16 Boys Entries'!$Q3 -> 0 | B37: ='U16 Boys Entries'!Q16 -> 0 | C37: ='U16 Boys Entries'!$Q4 -> 0 | E37: =IF($D37>=$E$30,IF($D37>0,"YES","" )," ") | F37: =IF($D37>0,6-RANK($D37,D$32:D$37,0),0) -> 0 | H37: ='U16 Boys Entries'!$Q3 -> 0 | I37: ='U16 Boys Entries'!Q17 -> 0 | J37: ='U16 Boys Entries'!$Q4 -> 0 | L37: =IF($K37>=$L$30,IF($K37>0,"YES","" )," ") | M37: =IF($K37>0,6-RANK($K37,K$32:K$37,0),0) -> 0 | O37: ='U16 Boys Entries'!$Q3 -> 0 | P37: ='U16 Boys Entries'!Q18 -> 0 | Q37: ='U16 Boys Entries'!$Q4 -> 0 | S37: =IF($R37>=$S$30,IF($R37>0,"YES","" )," ") | T37: =IF($R37>0,6-RANK($R37,R$32:R$37,0),0) -> 0
A39: Discus | C39: Record | E39: 48.29 | H39: Javelin | J39: Record | L39: 58.78 | O39: Results
A40: School | B40: Name | C40: Vest No. | D40: Distance | E40: Record? | F40: Points | H40: School | I40: Name | J40: Vest No. | K40: Distance | L40: Record? | M40: Points | O40: School | Q40: Vest No. | R40: Points
A41: ='U16 Boys Entries'!$B3 -> 0 | B41: ='U16 Boys Entries'!B19 -> 0 | C41: ='U16 Boys Entries'!$B4 -> 0 | E41: =IF($D41>=$E$39,IF($D41>0,"YES","" )," ") | F41: =IF($D41>0,6-RANK($D41,D$41:D$46,0),0) -> 0 | H41: ='U16 Boys Entries'!$B3 -> 0 | I41: ='U16 Boys Entries'!B20 -> 0 | J41: ='U16 Boys Entries'!$B4 -> 0 | L41: =IF($K41>=$L$39,IF($K41>0,"YES","" )," ") | M41: =IF($K41>0,6-RANK($K41,K$41:K$46,0),0) -> 0 | O41: ='U16 Boys Entries'!$B3 -> 0 | Q41: ='U16 Boys Entries'!$B4 -> 0 | R41: =SUM(F5,M5,T5,F14,M14,T14,F23,M23,T23,T32,M32,F32,F41,M41) -> 0
A42: ='U16 Boys Entries'!$E3 -> 0 | B42: ='U16 Boys Entries'!E19 -> 0 | C42: ='U16 Boys Entries'!$E4 -> 0 | E42: =IF($D42>=$E$39,IF($D42>0,"YES","" )," ") | F42: =IF($D42>0,6-RANK($D42,D$41:D$46,0),0) -> 0 | H42: ='U16 Boys Entries'!$E3 -> 0 | I42: ='U16 Boys Entries'!E20 -> 0 | J42: ='U16 Boys Entries'!$E4 -> 0 | L42: =IF($K42>=$L$39,IF($K42>0,"YES","" )," ") | M42: =IF($K42>0,6-RANK($K42,K$41:K$46,0),0) -> 0 | O42: ='U16 Boys Entries'!$E3 -> 0 | Q42: ='U16 Boys Entries'!$E4 -> 0 | R42: =SUM(F6,M6,T6,F15,M15,T15,F24,M24,T24,T33,M33,F33,F42,M42) -> 0
A43: ='U16 Boys Entries'!$H3 -> 0 | B43: ='U16 Boys Entries'!H19 -> 0 | C43: ='U16 Boys Entries'!$H4 -> 0 | E43: =IF($D43>=$E$39,IF($D43>0,"YES","" )," ") | F43: =IF($D43>0,6-RANK($D43,D$41:D$46,0),0) -> 0 | H43: ='U16 Boys Entries'!$H3 -> 0 | I43: ='U16 Boys Entries'!H20 -> 0 | J43: ='U16 Boys Entries'!$H4 -> 0 | L43: =IF($K43>=$L$39,IF($K43>0,"YES","" )," ") | M43: =IF($K43>0,6-RANK($K43,K$41:K$46,0),0) -> 0 | O43: ='U16 Boys Entries'!$H3 -> 0 | Q43: ='U16 Boys Entries'!$H4 -> 0 | R43: =SUM(F7,M7,T7,F16,M16,T16,F25,M25,T25,T34,M34,F34,F43,M43) -> 0
A44: ='U16 Boys Entries'!$K3 -> 0 | B44: ='U16 Boys Entries'!K19 -> 0 | C44: ='U16 Boys Entries'!$K4 -> 0 | E44: =IF($D44>=$E$39,IF($D44>0,"YES","" )," ") | F44: =IF($D44>0,6-RANK($D44,D$41:D$46,0),0) -> 0 | H44: ='U16 Boys Entries'!$K3 -> 0 | I44: ='U16 Boys Entries'!K20 -> 0 | J44: ='U16 Boys Entries'!$K4 -> 0 | L44: =IF($K44>=$L$39,IF($K44>0,"YES","" )," ") | M44: =IF($K44>0,6-RANK($K44,K$41:K$46,0),0) -> 0 | O44: ='U16 Boys Entries'!$K3 -> 0 | Q44: ='U16 Boys Entries'!$K4 -> 0 | R44: =SUM(F8,M8,T8,F17,M17,T17,F26,M26,T26,T35,M35,F35,F44,M44) -> 0
A45: ='U16 Boys Entries'!$N3 -> 0 | B45: ='U16 Boys Entries'!N19 -> 0 | C45: ='U16 Boys Entries'!$N4 -> 0 | E45: =IF($D45>=$E$39,IF($D45>0,"YES","" )," ") | F45: =IF($D45>0,6-RANK($D45,D$41:D$46,0),0) -> 0 | H45: ='U16 Boys Entries'!$N3 -> 0 | I45: ='U16 Boys Entries'!N20 -> 0 | J45: ='U16 Boys Entries'!$N4 -> 0 | L45: =IF($K45>=$L$39,IF($K45>0,"YES","" )," ") | M45: =IF($K45>0,6-RANK($K45,K$41:K$46,0),0) -> 0 | O45: ='U16 Boys Entries'!$N3 -> 0 | Q45: ='U16 Boys Entries'!$N4 -> 0 | R45: =SUM(F9,M9,T9,F18,M18,T18,F27,M27,T27,T36,M36,F36,F45,M45) -> 0
A46: ='U16 Boys Entries'!$Q3 -> 0 | B46: ='U16 Boys Entries'!Q19 -> 0 | C46: ='U16 Boys Entries'!$Q4 -> 0 | E46: =IF($D46>=$E$39,IF($D46>0,"YES","" )," ") | F46: =IF($D46>0,6-RANK($D46,D$41:D$46,0),0) -> 0 | H46: ='U16 Boys Entries'!$Q3 -> 0 | I46: ='U16 Boys Entries'!Q20 -> 0 | J46: ='U16 Boys Entries'!$Q4 -> 0 | L46: =IF($K46>=$L$39,IF($K46>0,"YES","" )," ") | M46: =IF($K46>0,6-RANK($K46,K$41:K$46,0),0) -> 0 | O46: ='U16 Boys Entries'!$Q3 -> 0 | Q46: ='U16 Boys Entries'!$Q4 -> 0 | R46: =SUM(F10,M10,T10,F19,M19,T19,F28,M28,T28,T37,M37,F37,F46,M46) -> 0

Sheet U16 Girls Results
O1: U16 Girls
A3: 100m | C3: Record | E3: 11.7 | H3: 200m | J3: Record | L3: 23.7 | O3: 300m | Q3: Record | S3: 0.00047337963
A4: School | B4: Name | C4: Vest No. | D4: Time | E4: Record? | F4: Points | H4: School | I4: Name | J4: Vest No. | K4: Time | L4: Record? | M4: Points | O4: School | P4: Name | Q4: Vest No. | R4: Time | S4: Record? | T4: Points
A5: ='U16 Girls Entries'!$B3 -> 0 | B5: ='U16 Girls Entries'!B7 -> 0 | C5: ='U16 Girls Entries'!$B4 -> 0 | E5: =IF($D5<=$E$3,IF($D5>0,"YES","" )," ") | F5: =IF($D5>0,6-RANK($D5,D$5:D$10,1),0) -> 0 | H5: ='U16 Girls Entries'!$B3 -> 0 | I5: ='U16 Girls Entries'!B8 -> 0 | J5: ='U16 Girls Entries'!$B4 -> 0 | L5: =IF($K5<=$L$3,IF($K5>0,"YES","" )," ") | M5: =IF($K5>0,6-RANK($K5,K$5:K$10,1),0) -> 0 | O5: ='U16 Girls Entries'!$B3 -> 0 | P5: ='U16 Girls Entries'!B9 -> 0 | Q5: ='U16 Girls Entries'!$B4 -> 0 | T5: =IF($R5>0,6-RANK($R5,R$5:R$10,1),0) -> 0
A6: ='U16 Girls Entries'!$E3 -> 0 | B6: ='U16 Girls Entries'!E7 -> 0 | C6: ='U16 Girls Entries'!$E4 -> 0 | E6: =IF($D6<=$E$3,IF($D6>0,"YES","" )," ") | F6: =IF($D6>0,6-RANK($D6,D$5:D$10,1),0) -> 0 | H6: ='U16 Girls Entries'!$E3 -> 0 | I6: ='U16 Girls Entries'!E8 -> 0 | J6: ='U16 Girls Entries'!$E4 -> 0 | L6: =IF($K6<=$L$3,IF($K6>0,"YES","" )," ") | M6: =IF($K6>0,6-RANK($K6,K$5:K$10,1),0) -> 0 | O6: ='U16 Girls Entries'!$E3 -> 0 | P6: ='U16 Girls Entries'!E9 -> 0 | Q6: ='U16 Girls Entries'!$E4 -> 0 | S6: =IF($R6<=$S$3,IF($R6>0,"YES","" )," ") | T6: =IF($R6>0,6-RANK($R6,R$5:R$10,1),0) -> 0
A7: ='U16 Girls Entries'!$H3 -> 0 | B7: ='U16 Girls Entries'!H7 -> 0 | C7: ='U16 Girls Entries'!$H4 -> 0 | E7: =IF($D7<=$E$3,IF($D7>0,"YES","" )," ") | F7: =IF($D7>0,6-RANK($D7,D$5:D$10,1),0) -> 0 | H7: ='U16 Girls Entries'!$H3 -> 0 | I7: ='U16 Girls Entries'!H8 -> 0 | J7: ='U16 Girls Entries'!$H4 -> 0 | L7: =IF($K7<=$L$3,IF($K7>0,"YES","" )," ") | M7: =IF($K7>0,6-RANK($K7,K$5:K$10,1),0) -> 0 | O7: ='U16 Girls Entries'!$H3 -> 0 | P7: ='U16 Girls Entries'!H9 -> 0 | Q7: ='U16 Girls Entries'!$H4 -> 0 | S7: =IF($R7<=$S$3,IF($R7>0,"YES","" )," ") | T7: =IF($R7>0,6-RANK($R7,R$5:R$10,1),0) -> 0
A8: ='U16 Girls Entries'!$K3 -> 0 | B8: ='U16 Girls Entries'!K7 -> 0 | C8: ='U16 Girls Entries'!$K4 -> 0 | E8: =IF($D8<=$E$3,IF($D8>0,"YES","" )," ") | F8: =IF($D8>0,6-RANK($D8,D$5:D$10,1),0) -> 0 | H8: ='U16 Girls Entries'!$K3 -> 0 | I8: ='U16 Girls Entries'!K8 -> 0 | J8: ='U16 Girls Entries'!$K4 -> 0 | L8: =IF($K8<=$L$3,IF($K8>0,"YES","" )," ") | M8: =IF($K8>0,6-RANK($K8,K$5:K$10,1),0) -> 0 | O8: ='U16 Girls Entries'!$K3 -> 0 | P8: ='U16 Girls Entries'!K9 -> 0 | Q8: ='U16 Girls Entries'!$K4 -> 0 | S8: =IF($R8<=$S$3,IF($R8>0,"YES","" )," ") | T8: =IF($R8>0,6-RANK($R8,R$5:R$10,1),0) -> 0
A9: ='U16 Girls Entries'!$N3 -> 0 | B9: ='U16 Girls Entries'!N7 -> 0 | C9: ='U16 Girls Entries'!$N4 -> 0 | E9: =IF($D9<=$E$3,IF($D9>0,"YES","" )," ") | F9: =IF($D9>0,6-RANK($D9,D$5:D$10,1),0) -> 0 | H9: ='U16 Girls Entries'!$N3 -> 0 | I9: ='U16 Girls Entries'!N8 -> 0 | J9: ='U16 Girls Entries'!$N4 -> 0 | L9: =IF($K9<=$L$3,IF($K9>0,"YES","" )," ") | M9: =IF($K9>0,6-RANK($K9,K$5:K$10,1),0) -> 0 | O9: ='U16 Girls Entries'!$N3 -> 0 | P9: ='U16 Girls Entries'!N9 -> 0 | Q9: ='U16 Girls Entries'!$N4 -> 0 | S9: =IF($R9<=$S$3,IF($R9>0,"YES","" )," ") | T9: =IF($R9>0,6-RANK($R9,R$5:R$10,1),0) -> 0
A10: ='U16 Girls Entries'!$Q3 -> 0 | B10: ='U16 Girls Entries'!Q7 -> 0 | C10: ='U16 Girls Entries'!$Q4 -> 0 | E10: =IF($D10<=$E$3,IF($D10>0,"YES","" )," ") | F10: =IF($D10>0,6-RANK($D10,D$5:D$10,1),0) -> 0 | H10: ='U16 Girls Entries'!$Q3 -> 0 | I10: ='U16 Girls Entries'!Q8 -> 0 | J10: ='U16 Girls Entries'!$Q4 -> 0 | L10: =IF($K10<=$L$3,IF($K10>0,"YES","" )," ") | M10: =IF($K10>0,6-RANK($K10,K$5:K$10,1),0) -> 0 | O10: ='U16 Girls Entries'!$Q3 -> 0 | P10: ='U16 Girls Entries'!Q9 -> 0 | Q10: ='U16 Girls Entries'!$Q4 -> 0 | S10: =IF($R10<=$S$3,IF($R10>0,"YES","" )," ") | T10: =IF($R10>0,6-RANK($R10,R$5:R$10,1),0) -> 0
A12: 800m | C12: Record | E12: 0.0015046296 | H12: 1500m | J12: Record | L12: 0.0032476852 | O12: Hurdles | Q12: Record | S12: 11.6
A13: School | B13: Name | C13: Vest No. | D13: Time | E13: Record? | F13: Points | H13: School | I13: Name | J13: Vest No. | K13: Time | L13: Record? | M13: Points | O13: School | P13: Name | Q13: Vest No. | R13: Time | S13: Record? | T13: Points
A14: ='U16 Girls Entries'!$B3 -> 0 | B14: ='U16 Girls Entries'!B10 -> 0 | C14: ='U16 Girls Entries'!$B4 -> 0 | E14: =IF($D14<=$E$12,IF($D14>0,"YES","" )," ") | F14: =IF($D14>0,6-RANK($D14,D$14:D$19,1),0) -> 0 | H14: ='U16 Girls Entries'!$B3 -> 0 | I14: ='U16 Girls Entries'!B11 -> 0 | J14: ='U16 Girls Entries'!$B4 -> 0 | L14: =IF($K14<=$L$12,IF($K14>0,"YES","" )," ") | M14: =IF($K14>0,6-RANK($K14,K$14:K$19,1),0) -> 0 | O14: ='U16 Girls Entries'!$B3 -> 0 | P14: ='U16 Girls Entries'!B12 -> 0 | Q14: ='U16 Girls Entries'!$B4 -> 0 | S14: =IF($R14<=$S$12,IF($R14>0,"YES","" )," ") | T14: =IF($R14>0,6-RANK($R14,R$14:R$19,1),0) -> 0
A15: ='U16 Girls Entries'!$E3 -> 0 | B15: ='U16 Girls Entries'!E10 -> 0 | C15: ='U16 Girls Entries'!$E4 -> 0 | E15: =IF($D15<=$E$12,IF($D15>0,"YES","" )," ") | F15: =IF($D15>0,6-RANK($D15,D$14:D$19,1),0) -> 0 | H15: ='U16 Girls Entries'!$E3 -> 0 | I15: ='U16 Girls Entries'!E11 -> 0 | J15: ='U16 Girls Entries'!$E4 -> 0 | L15: =IF($K15<=$L$12,IF($K15>0,"YES","" )," ") | M15: =IF($K15>0,6-RANK($K15,K$14:K$19,1),0) -> 0 | O15: ='U16 Girls Entries'!$E3 -> 0 | P15: ='U16 Girls Entries'!E12 -> 0 | Q15: ='U16 Girls Entries'!$E4 -> 0 | S15: =IF($R15<=$S$12,IF($R15>0,"YES","" )," ") | T15: =IF($R15>0,6-RANK($R15,R$14:R$19,1),0) -> 0
A16: ='U16 Girls Entries'!$H3 -> 0 | B16: ='U16 Girls Entries'!H10 -> 0 | C16: ='U16 Girls Entries'!$H4 -> 0 | E16: =IF($D16<=$E$12,IF($D16>0,"YES","" )," ") | F16: =IF($D16>0,6-RANK($D16,D$14:D$19,1),0) -> 0 | H16: ='U16 Girls Entries'!$H3 -> 0 | I16: ='U16 Girls Entries'!H11 -> 0 | J16: ='U16 Girls Entries'!$H4 -> 0 | L16: =IF($K16<=$L$12,IF($K16>0,"YES","" )," ") | M16: =IF($K16>0,6-RANK($K16,K$14:K$19,1),0) -> 0 | O16: ='U16 Girls Entries'!$H3 -> 0 | P16: ='U16 Girls Entries'!H12 -> 0 | Q16: ='U16 Girls Entries'!$H4 -> 0 | S16: =IF($R16<=$S$12,IF($R16>0,"YES","" )," ") | T16: =IF($R16>0,6-RANK($R16,R$14:R$19,1),0) -> 0
A17: ='U16 Girls Entries'!$K3 -> 0 | B17: ='U16 Girls Entries'!K10 -> 0 | C17: ='U16 Girls Entries'!$K4 -> 0 | E17: =IF($D17<=$E$12,IF($D17>0,"YES","" )," ") | F17: =IF($D17>0,6-RANK($D17,D$14:D$19,1),0) -> 0 | H17: ='U16 Girls Entries'!$K3 -> 0 | I17: ='U16 Girls Entries'!K11 -> 0 | J17: ='U16 Girls Entries'!$K4 -> 0 | L17: =IF($K17<=$L$12,IF($K17>0,"YES","" )," ") | M17: =IF($K17>0,6-RANK($K17,K$14:K$19,1),0) -> 0 | O17: ='U16 Girls Entries'!$K3 -> 0 | P17: ='U16 Girls Entries'!K12 -> 0 | Q17: ='U16 Girls Entries'!$K4 -> 0 | S17: =IF($R17<=$S$12,IF($R17>0,"YES","" )," ") | T17: =IF($R17>0,6-RANK($R17,R$14:R$19,1),0) -> 0
A18: ='U16 Girls Entries'!$N3 -> 0 | B18: ='U16 Girls Entries'!N10 -> 0 | C18: ='U16 Girls Entries'!$N4 -> 0 | E18: =IF($D18<=$E$12,IF($D18>0,"YES","" )," ") | F18: =IF($D18>0,6-RANK($D18,D$14:D$19,1),0) -> 0 | H18: ='U16 Girls Entries'!$N3 -> 0 | I18: ='U16 Girls Entries'!N11 -> 0 | J18: ='U16 Girls Entries'!$N4 -> 0 | L18: =IF($K18<=$L$12,IF($K18>0,"YES","" )," ") | M18: =IF($K18>0,6-RANK($K18,K$14:K$19,1),0) -> 0 | O18: ='U16 Girls Entries'!$N3 -> 0 | P18: ='U16 Girls Entries'!N12 -> 0 | Q18: ='U16 Girls Entries'!$N4 -> 0 | S18: =IF($R18<=$S$12,IF($R18>0,"YES","" )," ") | T18: =IF($R18>0,6-RANK($R18,R$14:R$19,1),0) -> 0
A19: ='U16 Girls Entries'!$Q3 -> 0 | B19: ='U16 Girls Entries'!Q10 -> 0 | C19: ='U16 Girls Entries'!$Q4 -> 0 | E19: =IF($D19<=$E$12,IF($D19>0,"YES","" )," ") | F19: =IF($D19>0,6-RANK($D19,D$14:D$19,1),0) -> 0 | H19: ='U16 Girls Entries'!$Q3 -> 0 | I19: ='U16 Girls Entries'!Q11 -> 0 | J19: ='U16 Girls Entries'!$Q4 -> 0 | L19: =IF($K19<=$L$12,IF($K19>0,"YES","" )," ") | M19: =IF($K19>0,6-RANK($K19,K$14:K$19,1),0) -> 0 | O19: ='U16 Girls Entries'!$Q3 -> 0 | P19: ='U16 Girls Entries'!Q12 -> 0 | Q19: ='U16 Girls Entries'!$Q4 -> 0 | S19: =IF($R19<=$S$12,IF($R19>0,"YES","" )," ") | T19: =IF($R19>0,6-RANK($R19,R$14:R$19,1),0) -> 0
A21: Relay | C21: Record | E21: 0.00059953704 | H21: Long Jump | J21: Record | L21: 5.45 | O21: Triple Jump | Q21: Record | S21: 11.17
A22: School | B22: Name | C22: Vest No. | D22: Time | E22: Record? | F22: Points | H22: School | I22: Name | J22: Vest No. | K22: Distance | L22: Record? | M22: Points | O22: School | P22: Name | Q22: Vest No. | R22: Distance | S22: Record? | T22: Points
A23: ='U16 Girls Entries'!$B3 -> 0 | B23: ='U16 Girls Entries'!B13 -> 0 | C23: ='U16 Girls Entries'!$B4 -> 0 | E23: =IF($D23<=$E$21,IF($D23>0,"YES","" )," ") | F23: =IF($D23>0,6-RANK($D23,D$23:D$28,1),0) -> 0 | H23: ='U16 Girls Entries'!$B3 -> 0 | I23: ='U16 Girls Entries'!B14 -> 0 | J23: ='U16 Girls Entries'!$B4 -> 0 | L23: =IF($K23>=$L$21,IF($K23>0,"YES","" )," ") | M23: =IF($K23>0,6-RANK($K23,K$23:K$28,0),0) -> 0 | O23: ='U16 Girls Entries'!$B3 -> 0 | P23: ='U16 Girls Entries'!B15 -> 0 | Q23: ='U16 Girls Entries'!$B4 -> 0 | S23: =IF($R23>=$S$21,IF($R23>0,"YES","" )," ") | T23: =IF($R23>0,6-RANK($R23,R$23:R$28,0),0) -> 0
A24: ='U16 Girls Entries'!$E3 -> 0 | B24: ='U16 Girls Entries'!E13 -> 0 | C24: ='U16 Girls Entries'!$E4 -> 0 | E24: =IF($D24<=$E$21,IF($D24>0,"YES","" )," ") | F24: =IF($D24>0,6-RANK($D24,D$23:D$28,1),0) -> 0 | H24: ='U16 Girls Entries'!$E3 -> 0 | I24: ='U16 Girls Entries'!E14 -> 0 | J24: ='U16 Girls Entries'!$E4 -> 0 | L24: =IF($K24>=$L$21,IF($K24>0,"YES","" )," ") | M24: =IF($K24>0,6-RANK($K24,K$23:K$28,0),0) -> 0 | O24: ='U16 Girls Entries'!$E3 -> 0 | P24: ='U16 Girls Entries'!E15 -> 0 | Q24: ='U16 Girls Entries'!$E4 -> 0 | S24: =IF($R24>=$S$21,IF($R24>0,"YES","" )," ") | T24: =IF($R24>0,6-RANK($R24,R$23:R$28,0),0) -> 0
A25: ='U16 Girls Entries'!$H3 -> 0 | B25: ='U16 Girls Entries'!H13 -> 0 | C25: ='U16 Girls Entries'!$H4 -> 0 | E25: =IF($D25<=$E$21,IF($D25>0,"YES","" )," ") | F25: =IF($D25>0,6-RANK($D25,D$23:D$28,1),0) -> 0 | H25: ='U16 Girls Entries'!$H3 -> 0 | I25: ='U16 Girls Entries'!H14 -> 0 | J25: ='U16 Girls Entries'!$H4 -> 0 | L25: =IF($K25>=$L$21,IF($K25>0,"YES","" )," ") | M25: =IF($K25>0,6-RANK($K25,K$23:K$28,0),0) -> 0 | O25: ='U16 Girls Entries'!$H3 -> 0 | P25: ='U16 Girls Entries'!H15 -> 0 | Q25: ='U16 Girls Entries'!$H4 -> 0 | S25: =IF($R25>=$S$21,IF($R25>0,"YES","" )," ") | T25: =IF($R25>0,6-RANK($R25,R$23:R$28,0),0) -> 0
A26: ='U16 Girls Entries'!$K3 -> 0 | B26: ='U16 Girls Entries'!K13 -> 0 | C26: ='U16 Girls Entries'!$K4 -> 0 | E26: =IF($D26<=$E$21,IF($D26>0,"YES","" )," ") | F26: =IF($D26>0,6-RANK($D26,D$23:D$28,1),0) -> 0 | H26: ='U16 Girls Entries'!$K3 -> 0 | I26: ='U16 Girls Entries'!K14 -> 0 | J26: ='U16 Girls Entries'!$K4 -> 0 | L26: =IF($K26>=$L$21,IF($K26>0,"YES","" )," ") | M26: =IF($K26>0,6-RANK($K26,K$23:K$28,0),0) -> 0 | O26: ='U16 Girls Entries'!$K3 -> 0 | P26: ='U16 Girls Entries'!K15 -> 0 | Q26: ='U16 Girls Entries'!$K4 -> 0 | S26: =IF($R26>=$S$21,IF($R26>0,"YES","" )," ") | T26: =IF($R26>0,6-RANK($R26,R$23:R$28,0),0) -> 0
A27: ='U16 Girls Entries'!$N3 -> 0 | B27: ='U16 Girls Entries'!N13 -> 0 | C27: ='U16 Girls Entries'!$N4 -> 0 | E27: =IF($D27<=$E$21,IF($D27>0,"YES","" )," ") | F27: =IF($D27>0,6-RANK($D27,D$23:D$28,1),0) -> 0 | H27: ='U16 Girls Entries'!$N3 -> 0 | I27: ='U16 Girls Entries'!N14 -> 0 | J27: ='U16 Girls Entries'!$N4 -> 0 | L27: =IF($K27>=$L$21,IF($K27>0,"YES","" )," ") | M27: =IF($K27>0,6-RANK($K27,K$23:K$28,0),0) -> 0 | O27: ='U16 Girls Entries'!$N3 -> 0 | P27: ='U16 Girls Entries'!N15 -> 0 | Q27: ='U16 Girls Entries'!$N4 -> 0 | S27: =IF($R27>=$S$21,IF($R27>0,"YES","" )," ") | T27: =IF($R27>0,6-RANK($R27,R$23:R$28,0),0) -> 0
A28: ='U16 Girls Entries'!$Q3 -> 0 | B28: ='U16 Girls Entries'!Q13 -> 0 | C28: ='U16 Girls Entries'!$Q4 -> 0 | E28: =IF($D28<=$E$21,IF($D28>0,"YES","" )," ") | F28: =IF($D28>0,6-RANK($D28,D$23:D$28,1),0) -> 0 | H28: ='U16 Girls Entries'!$Q3 -> 0 | I28: ='U16 Girls Entries'!Q14 -> 0 | J28: ='U16 Girls Entries'!$Q4 -> 0 | L28: =IF($K28>=$L$21,IF($K28>0,"YES","" )," ") | M28: =IF($K28>0,6-RANK($K28,K$23:K$28,0),0) -> 0 | O28: ='U16 Girls Entries'!$Q3 -> 0 | P28: ='U16 Girls Entries'!Q15 -> 0 | Q28: ='U16 Girls Entries'!$Q4 -> 0 | S28: =IF($R28>=$S$21,IF($R28>0,"YES","" )," ") | T28: =IF($R28>0,6-RANK($R28,R$23:R$28,0),0) -> 0
A30: High Jump | C30: Record | E30: 1.7 | O30: Shot Put | Q30: Record | S30: 13.99
A31: School | B31: Name | C31: Vest No. | D31: Height | E31: Record? | F31: Points | O31: School | P31: Name | Q31: Vest No. | R31: Distance | S31: Record? | T31: Points
A32: ='U16 Girls Entries'!$B3 -> 0 | B32: ='U16 Girls Entries'!B16 -> 0 | C32: ='U16 Girls Entries'!$B4 -> 0 | E32: =IF($D32>=$E$30,IF($D32>0,"YES","" )," ") | F32: =IF($D32>0,6-RANK($D32,D$32:D$37,0),0) -> 0 | O32: ='U16 Girls Entries'!$B3 -> 0 | P32: ='U16 Girls Entries'!B18 -> 0 | Q32: ='U16 Girls Entries'!$B4 -> 0 | S32: =IF($R32>=$S$30,IF($R32>0,"YES","" )," ") | T32: =IF($R32>0,6-RANK($R32,R$32:R$37,0),0) -> 0
A33: ='U16 Girls Entries'!$E3 -> 0 | B33: ='U16 Girls Entries'!E16 -> 0 | C33: ='U16 Girls Entries'!$E4 -> 0 | E33: =IF($D33>=$E$30,IF($D33>0,"YES","" )," ") | F33: =IF($D33>0,6-RANK($D33,D$32:D$37,0),0) -> 0 | O33: ='U16 Girls Entries'!$E3 -> 0 | P33: ='U16 Girls Entries'!E18 -> 0 | Q33: ='U16 Girls Entries'!$E4 -> 0 | S33: =IF($R33>=$S$30,IF($R33>0,"YES","" )," ") | T33: =IF($R33>0,6-RANK($R33,R$32:R$37,0),0) -> 0
A34: ='U16 Girls Entries'!$H3 -> 0 | B34: ='U16 Girls Entries'!H16 -> 0 | C34: ='U16 Girls Entries'!$H4 -> 0 | E34: =IF($D34>=$E$30,IF($D34>0,"YES","" )," ") | F34: =IF($D34>0,6-RANK($D34,D$32:D$37,0),0) -> 0 | O34: ='U16 Girls Entries'!$H3 -> 0 | P34: ='U16 Girls Entries'!H18 -> 0 | Q34: ='U16 Girls Entries'!$H4 -> 0 | S34: =IF($R34>=$S$30,IF($R34>0,"YES","" )," ") | T34: =IF($R34>0,6-RANK($R34,R$32:R$37,0),0) -> 0
A35: ='U16 Girls Entries'!$K3 -> 0 | B35: ='U16 Girls Entries'!K16 -> 0 | C35: ='U16 Girls Entries'!$K4 -> 0 | E35: =IF($D35>=$E$30,IF($D35>0,"YES","" )," ") | F35: =IF($D35>0,6-RANK($D35,D$32:D$37,0),0) -> 0 | O35: ='U16 Girls Entries'!$K3 -> 0 | P35: ='U16 Girls Entries'!K18 -> 0 | Q35: ='U16 Girls Entries'!$K4 -> 0 | S35: =IF($R35>=$S$30,IF($R35>0,"YES","" )," ") | T35: =IF($R35>0,6-RANK($R35,R$32:R$37,0),0) -> 0
A36: ='U16 Girls Entries'!$N3 -> 0 | B36: ='U16 Girls Entries'!N16 -> 0 | C36: ='U16 Girls Entries'!$N4 -> 0 | E36: =IF($D36>=$E$30,IF($D36>0,"YES","" )," ") | F36: =IF($D36>0,6-RANK($D36,D$32:D$37,0),0) -> 0 | O36: ='U16 Girls Entries'!$N3 -> 0 | P36: ='U16 Girls Entries'!N18 -> 0 | Q36: ='U16 Girls Entries'!$N4 -> 0 | S36: =IF($R36>=$S$30,IF($R36>0,"YES","" )," ") | T36: =IF($R36>0,6-RANK($R36,R$32:R$37,0),0) -> 0
A37: ='U16 Girls Entries'!$Q3 -> 0 | B37: ='U16 Girls Entries'!Q16 -> 0 | C37: ='U16 Girls Entries'!$Q4 -> 0 | E37: =IF($D37>=$E$30,IF($D37>0,"YES","" )," ") | F37: =IF($D37>0,6-RANK($D37,D$32:D$37,0),0) -> 0 | O37: ='U16 Girls Entries'!$Q3 -> 0 | P37: ='U16 Girls Entries'!Q18 -> 0 | Q37: ='U16 Girls Entries'!$Q4 -> 0 | S37: =IF($R37>=$S$30,IF($R37>0,"YES","" )," ") | T37: =IF($R37>0,6-RANK($R37,R$32:R$37,0),0) -> 0
A39: Discus | C39: Record | E39: 37.81 | H39: Javelin | J39: Record | L39: 43.17 | O39: Results
A40: School | B40: Name | C40: Vest No. | D40: Distance | E40: Record? | F40: Points | H40: School | I40: Name | J40: Vest No. | K40: Distance | L40: Record? | M40: Points | O40: School | Q40: Vest No. | R40: Points
A41: ='U16 Girls Entries'!$B3 -> 0 | B41: ='U16 Girls Entries'!B19 -> 0 | C41: ='U16 Girls Entries'!$B4 -> 0 | E41: =IF($D41>=$E$39,IF($D41>0,"YES","" )," ") | F41: =IF($D41>0,6-RANK($D41,D$41:D$46,0),0) -> 0 | H41: ='U16 Girls Entries'!$B3 -> 0 | I41: ='U16 Girls Entries'!B20 -> 0 | J41: ='U16 Girls Entries'!$B4 -> 0 | L41: =IF($K41>=$L$39,IF($K41>0,"YES","" )," ") | M41: =IF($K41>0,6-RANK($K41,K$41:K$46,0),0) -> 0 | O41: ='U16 Girls Entries'!$B3 -> 0 | Q41: ='U16 Girls Entries'!$B4 -> 0 | R41: =SUM(F5,M5,T5,F14,M14,T14,F23,M23,T23,T32,M32,F32,F41,M41) -> 0
A42: ='U16 Girls Entries'!$E3 -> 0 | B42: ='U16 Girls Entries'!E19 -> 0 | C42: ='U16 Girls Entries'!$E4 -> 0 | E42: =IF($D42>=$E$39,IF($D42>0,"YES","" )," ") | F42: =IF($D42>0,6-RANK($D42,D$41:D$46,0),0) -> 0 | H42: ='U16 Girls Entries'!$E3 -> 0 | I42: ='U16 Girls Entries'!E20 -> 0 | J42: ='U16 Girls Entries'!$E4 -> 0 | L42: =IF($K42>=$L$39,IF($K42>0,"YES","" )," ") | M42: =IF($K42>0,6-RANK($K42,K$41:K$46,0),0) -> 0 | O42: ='U16 Girls Entries'!$E3 -> 0 | Q42: ='U16 Girls Entries'!$E4 -> 0 | R42: =SUM(F6,M6,T6,F15,M15,T15,F24,M24,T24,T33,M33,F33,F42,M42) -> 0
A43: ='U16 Girls Entries'!$H3 -> 0 | B43: ='U16 Girls Entries'!H19 -> 0 | C43: ='U16 Girls Entries'!$H4 -> 0 | E43: =IF($D43>=$E$39,IF($D43>0,"YES","" )," ") | F43: =IF($D43>0,6-RANK($D43,D$41:D$46,0),0) -> 0 | H43: ='U16 Girls Entries'!$H3 -> 0 | I43: ='U16 Girls Entries'!H20 -> 0 | J43: ='U16 Girls Entries'!$H4 -> 0 | L43: =IF($K43>=$L$39,IF($K43>0,"YES","" )," ") | M43: =IF($K43>0,6-RANK($K43,K$41:K$46,0),0) -> 0 | O43: ='U16 Girls Entries'!$H3 -> 0 | Q43: ='U16 Girls Entries'!$H4 -> 0 | R43: =SUM(F7,M7,T7,F16,M16,T16,F25,M25,T25,T34,M34,F34,F43,M43) -> 0
A44: ='U16 Girls Entries'!$K3 -> 0 | B44: ='U16 Girls Entries'!K19 -> 0 | C44: ='U16 Girls Entries'!$K4 -> 0 | E44: =IF($D44>=$E$39,IF($D44>0,"YES","" )," ") | F44: =IF($D44>0,6-RANK($D44,D$41:D$46,0),0) -> 0 | H44: ='U16 Girls Entries'!$K3 -> 0 | I44: ='U16 Girls Entries'!K20 -> 0 | J44: ='U16 Girls Entries'!$K4 -> 0 | L44: =IF($K44>=$L$39,IF($K44>0,"YES","" )," ") | M44: =IF($K44>0,6-RANK($K44,K$41:K$46,0),0) -> 0 | O44: ='U16 Girls Entries'!$K3 -> 0 | Q44: ='U16 Girls Entries'!$K4 -> 0 | R44: =SUM(F8,M8,T8,F17,M17,T17,F26,M26,T26,T35,M35,F35,F44,M44) -> 0
A45: ='U16 Girls Entries'!$N3 -> 0 | B45: ='U16 Girls Entries'!N19 -> 0 | C45: ='U16 Girls Entries'!$N4 -> 0 | E45: =IF($D45>=$E$39,IF($D45>0,"YES","" )," ") | F45: =IF($D45>0,6-RANK($D45,D$41:D$46,0),0) -> 0 | H45: ='U16 Girls Entries'!$N3 -> 0 | I45: ='U16 Girls Entries'!N20 -> 0 | J45: ='U16 Girls Entries'!$N4 -> 0 | L45: =IF($K45>=$L$39,IF($K45>0,"YES","" )," ") | M45: =IF($K45>0,6-RANK($K45,K$41:K$46,0),0) -> 0 | O45: ='U16 Girls Entries'!$N3 -> 0 | Q45: ='U16 Girls Entries'!$N4 -> 0 | R45: =SUM(F9,M9,T9,F18,M18,T18,F27,M27,T27,T36,M36,F36,F45,M45) -> 0
A46: ='U16 Girls Entries'!$Q3 -> 0 | B46: ='U16 Girls Entries'!Q19 -> 0 | C46: ='U16 Girls Entries'!$Q4 -> 0 | E46: =IF($D46>=$E$39,IF($D46>0,"YES","" )," ") | F46: =IF($D46>0,6-RANK($D46,D$41:D$46,0),0) -> 0 | H46: ='U16 Girls Entries'!$Q3 -> 0 | I46: ='U16 Girls Entries'!Q20 -> 0 | J46: ='U16 Girls Entries'!$Q4 -> 0 | L46: =IF($K46>=$L$39,IF($K46>0,"YES","" )," ") | M46: =IF($K46>0,6-RANK($K46,K$41:K$46,0),0) -> 0 | O46: ='U16 Girls Entries'!$Q3 -> 0 | Q46: ='U16 Girls Entries'!$Q4 -> 0 | R46: =SUM(F10,M10,T10,F19,M19,T19,F28,M28,T28,T37,M37,F37,F46,M46) -> 0
